BEGIN:VCALENDAR
VERSION:2.0
PRODID:-//CPSA DC 125 - ECPv6.15.20//NONSGML v1.0//EN
CALSCALE:GREGORIAN
METHOD:PUBLISH
X-ORIGINAL-URL:https://cpsa125.org
X-WR-CALDESC:Events for CPSA DC 125
REFRESH-INTERVAL;VALUE=DURATION:PT1H
X-Robots-Tag:noindex
X-PUBLISHED-TTL:PT1H
BEGIN:VTIMEZONE
TZID:UTC
BEGIN:STANDARD
TZOFFSETFROM:+0000
TZOFFSETTO:+0000
TZNAME:UTC
DTSTART:20240101T000000
END:STANDARD
END:VTIMEZONE
BEGIN:VTIMEZONE
TZID:America/New_York
BEGIN:DAYLIGHT
TZOFFSETFROM:-0500
TZOFFSETTO:-0400
TZNAME:EDT
DTSTART:20240310T070000
END:DAYLIGHT
BEGIN:STANDARD
TZOFFSETFROM:-0400
TZOFFSETTO:-0500
TZNAME:EST
DTSTART:20241103T060000
END:STANDARD
BEGIN:DAYLIGHT
TZOFFSETFROM:-0500
TZOFFSETTO:-0400
TZNAME:EDT
DTSTART:20250309T070000
END:DAYLIGHT
BEGIN:STANDARD
TZOFFSETFROM:-0400
TZOFFSETTO:-0500
TZNAME:EST
DTSTART:20251102T060000
END:STANDARD
BEGIN:DAYLIGHT
TZOFFSETFROM:-0500
TZOFFSETTO:-0400
TZNAME:EDT
DTSTART:20260308T070000
END:DAYLIGHT
BEGIN:STANDARD
TZOFFSETFROM:-0400
TZOFFSETTO:-0500
TZNAME:EST
DTSTART:20261101T060000
END:STANDARD
END:VTIMEZONE
BEGIN:VEVENT
DTSTART;TZID=UTC:20250111T110000
DTEND;TZID=UTC:20250111T130000
DTSTAMP:20260425T223940
CREATED:20241205T072139Z
LAST-MODIFIED:20241215T021222Z
UID:943-1736593200-1736600400@cpsa125.org
SUMMARY:Colored Pencil Explorers
DESCRIPTION:Monthly meeting to explore and learn all that colored pencils have to offer. Our theme this month is ‘Drawing on Wood” with colored pencils. A 4×4 wood tile will be provided for you. Please bring your colored pencils and sharpener with you. \nThe event is free\, but we ask you to register so we know how many to plan for.  Register by sending email to president@cpsa125.org \n  \nWe look forward to seeing you! Bring a friend!
URL:https://cpsa125.org/event/colored-pencil-explorers/
LOCATION:Mary Alice Warren Community Center\, 7632 Warren Pk Dr\, Lewisville\, NC\, 27023\, United States
CATEGORIES:Colored Pencil Explorers
END:VEVENT
BEGIN:VEVENT
DTSTART;TZID=America/New_York:20250111T131500
DTEND;TZID=America/New_York:20250111T153000
DTSTAMP:20260425T223940
CREATED:20250101T044009Z
LAST-MODIFIED:20250101T044009Z
UID:1313-1736601300-1736609400@cpsa125.org
SUMMARY:DC125 Chapter Meeting
DESCRIPTION:
URL:https://cpsa125.org/event/dc125-chapter-meeting/
LOCATION:Mary Alice Warren Community Center\, 7632 Warren Pk Dr\, Lewisville\, NC\, 27023\, United States
ORGANIZER;CN="CPSA DC 125":MAILTO:President@cpsa125.org
END:VEVENT
END:VCALENDAR