BEGIN:VCALENDAR
VERSION:2.0
PRODID:-//CPSA DC 125 - ECPv6.15.20//NONSGML v1.0//EN
CALSCALE:GREGORIAN
METHOD:PUBLISH
X-ORIGINAL-URL:https://cpsa125.org
X-WR-CALDESC:Events for CPSA DC 125
REFRESH-INTERVAL;VALUE=DURATION:PT1H
X-Robots-Tag:noindex
X-PUBLISHED-TTL:PT1H
BEGIN:VTIMEZONE
TZID:America/New_York
BEGIN:DAYLIGHT
TZOFFSETFROM:-0500
TZOFFSETTO:-0400
TZNAME:EDT
DTSTART:20240310T070000
END:DAYLIGHT
BEGIN:STANDARD
TZOFFSETFROM:-0400
TZOFFSETTO:-0500
TZNAME:EST
DTSTART:20241103T060000
END:STANDARD
BEGIN:DAYLIGHT
TZOFFSETFROM:-0500
TZOFFSETTO:-0400
TZNAME:EDT
DTSTART:20250309T070000
END:DAYLIGHT
BEGIN:STANDARD
TZOFFSETFROM:-0400
TZOFFSETTO:-0500
TZNAME:EST
DTSTART:20251102T060000
END:STANDARD
BEGIN:DAYLIGHT
TZOFFSETFROM:-0500
TZOFFSETTO:-0400
TZNAME:EDT
DTSTART:20260308T070000
END:DAYLIGHT
BEGIN:STANDARD
TZOFFSETFROM:-0400
TZOFFSETTO:-0500
TZNAME:EST
DTSTART:20261101T060000
END:STANDARD
END:VTIMEZONE
BEGIN:VEVENT
DTSTART;TZID=America/New_York:20250517T130000
DTEND;TZID=America/New_York:20250517T170000
DTSTAMP:20260424T235051
CREATED:20241215T021639Z
LAST-MODIFIED:20250101T051930Z
UID:1182-1747486800-1747501200@cpsa125.org
SUMMARY:Workshop: "Cloudscape" on Drafting Film with Barbara Dahlstedt
DESCRIPTION:For more information and to register\, click HERE
URL:https://cpsa125.org/event/workshop-cloudscape-on-drafting-film-with-barbara-dahlstedt/
LOCATION:Mary Alice Warren Community Center\, 7632 Warren Pk Dr\, Lewisville\, NC\, 27023\, United States
CATEGORIES:Workshops
ORGANIZER;CN="CPSA DC 125":MAILTO:President@cpsa125.org
END:VEVENT
END:VCALENDAR