BEGIN:VCALENDAR
VERSION:2.0
PRODID:-//CPSA DC 125 - ECPv6.15.20//NONSGML v1.0//EN
CALSCALE:GREGORIAN
METHOD:PUBLISH
X-WR-CALNAME:CPSA DC 125
X-ORIGINAL-URL:https://cpsa125.org
X-WR-CALDESC:Events for CPSA DC 125
REFRESH-INTERVAL;VALUE=DURATION:PT1H
X-Robots-Tag:noindex
X-PUBLISHED-TTL:PT1H
BEGIN:VTIMEZONE
TZID:UTC
BEGIN:STANDARD
TZOFFSETFROM:+0000
TZOFFSETTO:+0000
TZNAME:UTC
DTSTART:20240101T000000
END:STANDARD
END:VTIMEZONE
BEGIN:VEVENT
DTSTART;TZID=UTC:20251103T100000
DTEND;TZID=UTC:20251103T120000
DTSTAMP:20260424T104350
CREATED:20241205T071710Z
LAST-MODIFIED:20241205T071710Z
UID:886-1762164000-1762171200@cpsa125.org
SUMMARY:Open Draw Monday
DESCRIPTION:Join other colored pencil enthusiasts and artists for fellowship while working on your curent colored pencil project
URL:https://cpsa125.org/event/open-draw-monday-46/
LOCATION:Mary Alice Warren Community Center\, 7632 Warren Pk Dr\, Lewisville\, NC\, 27023\, United States
CATEGORIES:Open Draw
END:VEVENT
BEGIN:VEVENT
DTSTART;TZID=UTC:20251110T100000
DTEND;TZID=UTC:20251110T120000
DTSTAMP:20260424T104350
CREATED:20241205T071711Z
LAST-MODIFIED:20241205T071711Z
UID:887-1762768800-1762776000@cpsa125.org
SUMMARY:Open Draw Monday
DESCRIPTION:Join other colored pencil enthusiasts and artists for fellowship while working on your curent colored pencil project
URL:https://cpsa125.org/event/open-draw-monday-47/
LOCATION:Mary Alice Warren Community Center\, 7632 Warren Pk Dr\, Lewisville\, NC\, 27023\, United States
CATEGORIES:Open Draw
END:VEVENT
BEGIN:VEVENT
DTSTART;TZID=UTC:20251117T100000
DTEND;TZID=UTC:20251117T120000
DTSTAMP:20260424T104350
CREATED:20241205T071711Z
LAST-MODIFIED:20241205T071711Z
UID:888-1763373600-1763380800@cpsa125.org
SUMMARY:Open Draw Monday
DESCRIPTION:Join other colored pencil enthusiasts and artists for fellowship while working on your curent colored pencil project
URL:https://cpsa125.org/event/open-draw-monday-48/
LOCATION:Mary Alice Warren Community Center\, 7632 Warren Pk Dr\, Lewisville\, NC\, 27023\, United States
CATEGORIES:Open Draw
END:VEVENT
BEGIN:VEVENT
DTSTART;TZID=UTC:20251124T100000
DTEND;TZID=UTC:20251124T120000
DTSTAMP:20260424T104350
CREATED:20241205T071910Z
LAST-MODIFIED:20241205T071910Z
UID:889-1763978400-1763985600@cpsa125.org
SUMMARY:Open Draw Monday
DESCRIPTION:Join other colored pencil enthusiasts and artists for fellowship while working on your curent colored pencil project
URL:https://cpsa125.org/event/open-draw-monday-49/
LOCATION:Mary Alice Warren Community Center\, 7632 Warren Pk Dr\, Lewisville\, NC\, 27023\, United States
CATEGORIES:Open Draw
END:VEVENT
END:VCALENDAR