BEGIN:VCALENDAR
VERSION:2.0
PRODID:-//CPSA DC 125 - ECPv6.15.20//NONSGML v1.0//EN
CALSCALE:GREGORIAN
METHOD:PUBLISH
X-ORIGINAL-URL:https://cpsa125.org
X-WR-CALDESC:Events for CPSA DC 125
REFRESH-INTERVAL;VALUE=DURATION:PT1H
X-Robots-Tag:noindex
X-PUBLISHED-TTL:PT1H
BEGIN:VTIMEZONE
TZID:UTC
BEGIN:STANDARD
TZOFFSETFROM:+0000
TZOFFSETTO:+0000
TZNAME:UTC
DTSTART:20250101T000000
END:STANDARD
END:VTIMEZONE
BEGIN:VTIMEZONE
TZID:America/New_York
BEGIN:DAYLIGHT
TZOFFSETFROM:-0500
TZOFFSETTO:-0400
TZNAME:EDT
DTSTART:20250309T070000
END:DAYLIGHT
BEGIN:STANDARD
TZOFFSETFROM:-0400
TZOFFSETTO:-0500
TZNAME:EST
DTSTART:20251102T060000
END:STANDARD
BEGIN:DAYLIGHT
TZOFFSETFROM:-0500
TZOFFSETTO:-0400
TZNAME:EDT
DTSTART:20260308T070000
END:DAYLIGHT
BEGIN:STANDARD
TZOFFSETFROM:-0400
TZOFFSETTO:-0500
TZNAME:EST
DTSTART:20261101T060000
END:STANDARD
BEGIN:DAYLIGHT
TZOFFSETFROM:-0500
TZOFFSETTO:-0400
TZNAME:EDT
DTSTART:20270314T070000
END:DAYLIGHT
BEGIN:STANDARD
TZOFFSETFROM:-0400
TZOFFSETTO:-0500
TZNAME:EST
DTSTART:20271107T060000
END:STANDARD
END:VTIMEZONE
BEGIN:VEVENT
DTSTART;TZID=UTC:20260504T100000
DTEND;TZID=UTC:20260504T120000
DTSTAMP:20260423T154817
CREATED:20241205T072023Z
LAST-MODIFIED:20241205T072023Z
UID:910-1777888800-1777896000@cpsa125.org
SUMMARY:Open Draw Monday
DESCRIPTION:Join other colored pencil enthusiasts and artists for fellowship while working on your curent colored pencil project
URL:https://cpsa125.org/event/open-draw-monday-70/
LOCATION:Mary Alice Warren Community Center\, 7632 Warren Pk Dr\, Lewisville\, NC\, 27023\, United States
CATEGORIES:Open Draw
END:VEVENT
BEGIN:VEVENT
DTSTART;TZID=America/New_York:20260509T110000
DTEND;TZID=America/New_York:20260509T130000
DTSTAMP:20260423T154817
CREATED:20250806T184340Z
LAST-MODIFIED:20260326T171452Z
UID:2196-1778324400-1778331600@cpsa125.org
SUMMARY:Colored Pencil Explorers - Nancy Powers Using Color Pencils with Stamps
DESCRIPTION:
URL:https://cpsa125.org/event/colored-pencil-explorers-16/
LOCATION:Mary Alice Warren Community Center\, 7632 Warren Pk Dr\, Lewisville\, NC\, 27023\, United States
CATEGORIES:Colored Pencil Explorers
END:VEVENT
BEGIN:VEVENT
DTSTART;TZID=UTC:20260511T100000
DTEND;TZID=UTC:20260511T120000
DTSTAMP:20260423T154817
CREATED:20241205T072024Z
LAST-MODIFIED:20241205T072024Z
UID:911-1778493600-1778500800@cpsa125.org
SUMMARY:Open Draw Monday
DESCRIPTION:Join other colored pencil enthusiasts and artists for fellowship while working on your curent colored pencil project
URL:https://cpsa125.org/event/open-draw-monday-71/
LOCATION:Mary Alice Warren Community Center\, 7632 Warren Pk Dr\, Lewisville\, NC\, 27023\, United States
CATEGORIES:Open Draw
END:VEVENT
BEGIN:VEVENT
DTSTART;TZID=UTC:20260518T100000
DTEND;TZID=UTC:20260518T120000
DTSTAMP:20260423T154817
CREATED:20241205T072024Z
LAST-MODIFIED:20241205T072024Z
UID:912-1779098400-1779105600@cpsa125.org
SUMMARY:Open Draw Monday
DESCRIPTION:Join other colored pencil enthusiasts and artists for fellowship while working on your curent colored pencil project
URL:https://cpsa125.org/event/open-draw-monday-72/
LOCATION:Mary Alice Warren Community Center\, 7632 Warren Pk Dr\, Lewisville\, NC\, 27023\, United States
CATEGORIES:Open Draw
END:VEVENT
BEGIN:VEVENT
DTSTART;VALUE=DATE:20260525
DTEND;VALUE=DATE:20260526
DTSTAMP:20260423T154817
CREATED:20250806T184252Z
LAST-MODIFIED:20250806T184252Z
UID:2194-1779667200-1779753599@cpsa125.org
SUMMARY:MEMORIAL DAY
DESCRIPTION:
URL:https://cpsa125.org/event/memorial-day/
END:VEVENT
BEGIN:VEVENT
DTSTART;TZID=UTC:20260525T100000
DTEND;TZID=UTC:20260525T120000
DTSTAMP:20260423T154817
CREATED:20241205T072024Z
LAST-MODIFIED:20241205T072024Z
UID:913-1779703200-1779710400@cpsa125.org
SUMMARY:HOLIDAY - NO Open Draw Monday
DESCRIPTION:Join other colored pencil enthusiasts and artists for fellowship while working on your curent colored pencil project
URL:https://cpsa125.org/event/holiday-no-open-draw-monday-3/
LOCATION:Mary Alice Warren Community Center\, 7632 Warren Pk Dr\, Lewisville\, NC\, 27023\, United States
CATEGORIES:Open Draw
END:VEVENT
BEGIN:VEVENT
DTSTART;TZID=UTC:20260601T100000
DTEND;TZID=UTC:20260601T120000
DTSTAMP:20260423T154817
CREATED:20241205T072038Z
LAST-MODIFIED:20241205T072038Z
UID:914-1780308000-1780315200@cpsa125.org
SUMMARY:Open Draw Monday
DESCRIPTION:Join other colored pencil enthusiasts and artists for fellowship while working on your curent colored pencil project
URL:https://cpsa125.org/event/open-draw-monday-73/
LOCATION:Mary Alice Warren Community Center\, 7632 Warren Pk Dr\, Lewisville\, NC\, 27023\, United States
CATEGORIES:Open Draw
END:VEVENT
BEGIN:VEVENT
DTSTART;TZID=America/New_York:20260602T150000
DTEND;TZID=America/New_York:20260602T170000
DTSTAMP:20260423T154817
CREATED:20251117T200832Z
LAST-MODIFIED:20251117T200832Z
UID:2495-1780412400-1780419600@cpsa125.org
SUMMARY:DC125 Board Meeting
DESCRIPTION:
URL:https://cpsa125.org/event/dc125-board-meeting-2/
LOCATION:ZOOM MEETING\, United States
CATEGORIES:Board Meeting
END:VEVENT
BEGIN:VEVENT
DTSTART;TZID=UTC:20260608T100000
DTEND;TZID=UTC:20260608T120000
DTSTAMP:20260423T154817
CREATED:20241205T072038Z
LAST-MODIFIED:20241205T072038Z
UID:915-1780912800-1780920000@cpsa125.org
SUMMARY:Open Draw Monday
DESCRIPTION:Join other colored pencil enthusiasts and artists for fellowship while working on your curent colored pencil project
URL:https://cpsa125.org/event/open-draw-monday-74/
LOCATION:Mary Alice Warren Community Center\, 7632 Warren Pk Dr\, Lewisville\, NC\, 27023\, United States
CATEGORIES:Open Draw
END:VEVENT
BEGIN:VEVENT
DTSTART;TZID=America/New_York:20260613T011500
DTEND;TZID=America/New_York:20260613T143000
DTSTAMP:20260423T154817
CREATED:20251117T201256Z
LAST-MODIFIED:20251117T201256Z
UID:2500-1781313300-1781361000@cpsa125.org
SUMMARY:DC125 CHAPTER MEETING
DESCRIPTION:
URL:https://cpsa125.org/event/dc125-chapter-meeting-3/
LOCATION:ZOOM MEETING\, United States
CATEGORIES:District Chapter Members Only
END:VEVENT
BEGIN:VEVENT
DTSTART;TZID=America/New_York:20260613T110000
DTEND;TZID=America/New_York:20260613T130000
DTSTAMP:20260423T154817
CREATED:20250806T184522Z
LAST-MODIFIED:20251117T201121Z
UID:2200-1781348400-1781355600@cpsa125.org
SUMMARY:Colored Pencil Explorers  - Zentangle
DESCRIPTION:
URL:https://cpsa125.org/event/colored-pencil-explorers-17/
LOCATION:Mary Alice Warren Community Center\, 7632 Warren Pk Dr\, Lewisville\, NC\, 27023\, United States
CATEGORIES:Colored Pencil Explorers
END:VEVENT
BEGIN:VEVENT
DTSTART;VALUE=DATE:20260615
DTEND;VALUE=DATE:20260616
DTSTAMP:20260423T154817
CREATED:20251117T200915Z
LAST-MODIFIED:20260303T152022Z
UID:2497-1781481600-1781567999@cpsa125.org
SUMMARY:NEWSLETTER DEADLINE
DESCRIPTION:
URL:https://cpsa125.org/event/newsletter-deadline-2/
END:VEVENT
BEGIN:VEVENT
DTSTART;TZID=UTC:20260615T100000
DTEND;TZID=UTC:20260615T120000
DTSTAMP:20260423T154817
CREATED:20241205T072038Z
LAST-MODIFIED:20241205T072038Z
UID:916-1781517600-1781524800@cpsa125.org
SUMMARY:Open Draw Monday
DESCRIPTION:Join other colored pencil enthusiasts and artists for fellowship while working on your curent colored pencil project
URL:https://cpsa125.org/event/open-draw-monday-75/
LOCATION:Mary Alice Warren Community Center\, 7632 Warren Pk Dr\, Lewisville\, NC\, 27023\, United States
CATEGORIES:Open Draw
END:VEVENT
BEGIN:VEVENT
DTSTART;VALUE=DATE:20260619
DTEND;VALUE=DATE:20260620
DTSTAMP:20260423T154817
CREATED:20250806T184423Z
LAST-MODIFIED:20250806T184423Z
UID:2198-1781827200-1781913599@cpsa125.org
SUMMARY:JUNETEENTH
DESCRIPTION:
URL:https://cpsa125.org/event/juneteenth/
END:VEVENT
BEGIN:VEVENT
DTSTART;TZID=America/New_York:20260619T090000
DTEND;TZID=America/New_York:20260619T160000
DTSTAMP:20260423T154817
CREATED:20251117T201546Z
LAST-MODIFIED:20251119T215812Z
UID:2502-1781859600-1781884800@cpsa125.org
SUMMARY:WORKSHOP - Denise Howard "Textures in Nature"
DESCRIPTION:
URL:https://cpsa125.org/event/workshop-denise-howard-textures-in-nature/
LOCATION:Mary Alice Warren Community Center\, 7632 Warren Pk Dr\, Lewisville\, NC\, 27023\, United States
CATEGORIES:Workshops
END:VEVENT
BEGIN:VEVENT
DTSTART;TZID=America/New_York:20260620T090000
DTEND;TZID=America/New_York:20260620T160000
DTSTAMP:20260423T154817
CREATED:20251117T201804Z
LAST-MODIFIED:20251119T215700Z
UID:2504-1781946000-1781971200@cpsa125.org
SUMMARY:WORKSHOP - Denise Howard "Textures in Nature"
DESCRIPTION:
URL:https://cpsa125.org/event/workshop-denise-howard-textures-in-nature-2/
LOCATION:Mary Alice Warren Community Center\, 7632 Warren Pk Dr\, Lewisville\, NC\, 27023\, United States
CATEGORIES:Workshops
END:VEVENT
BEGIN:VEVENT
DTSTART;TZID=UTC:20260622T100000
DTEND;TZID=UTC:20260622T120000
DTSTAMP:20260423T154817
CREATED:20241205T072038Z
LAST-MODIFIED:20241205T072038Z
UID:917-1782122400-1782129600@cpsa125.org
SUMMARY:Open Draw Monday
DESCRIPTION:Join other colored pencil enthusiasts and artists for fellowship while working on your curent colored pencil project
URL:https://cpsa125.org/event/open-draw-monday-76/
LOCATION:Mary Alice Warren Community Center\, 7632 Warren Pk Dr\, Lewisville\, NC\, 27023\, United States
CATEGORIES:Open Draw
END:VEVENT
BEGIN:VEVENT
DTSTART;TZID=UTC:20260629T100000
DTEND;TZID=UTC:20260629T120000
DTSTAMP:20260423T154817
CREATED:20241205T072038Z
LAST-MODIFIED:20241205T072038Z
UID:918-1782727200-1782734400@cpsa125.org
SUMMARY:Open Draw Monday
DESCRIPTION:Join other colored pencil enthusiasts and artists for fellowship while working on your curent colored pencil project
URL:https://cpsa125.org/event/open-draw-monday-77/
LOCATION:Mary Alice Warren Community Center\, 7632 Warren Pk Dr\, Lewisville\, NC\, 27023\, United States
CATEGORIES:Open Draw
END:VEVENT
BEGIN:VEVENT
DTSTART;VALUE=DATE:20260630
DTEND;VALUE=DATE:20260701
DTSTAMP:20260423T154817
CREATED:20251119T211032Z
LAST-MODIFIED:20260303T151800Z
UID:2560-1782777600-1782863999@cpsa125.org
SUMMARY:NEWSLETTER OUT
DESCRIPTION:
URL:https://cpsa125.org/event/newsletter-out-4/
END:VEVENT
BEGIN:VEVENT
DTSTART;VALUE=DATE:20260703
DTEND;VALUE=DATE:20260704
DTSTAMP:20260423T154817
CREATED:20250806T184846Z
LAST-MODIFIED:20250806T184846Z
UID:2204-1783036800-1783123199@cpsa125.org
SUMMARY:INDEPENDENCE DAY HOLIDAY
DESCRIPTION:
URL:https://cpsa125.org/event/independence-day-holiday/
END:VEVENT
BEGIN:VEVENT
DTSTART;VALUE=DATE:20260704
DTEND;VALUE=DATE:20260705
DTSTAMP:20260423T154817
CREATED:20250806T184755Z
LAST-MODIFIED:20250806T184755Z
UID:2202-1783123200-1783209599@cpsa125.org
SUMMARY:INDEPENDENCE DAY
DESCRIPTION:
URL:https://cpsa125.org/event/independence-day/
END:VEVENT
BEGIN:VEVENT
DTSTART;TZID=UTC:20260706T100000
DTEND;TZID=UTC:20260706T120000
DTSTAMP:20260423T154817
CREATED:20241205T072053Z
LAST-MODIFIED:20241205T072053Z
UID:919-1783332000-1783339200@cpsa125.org
SUMMARY:Open Draw Monday
DESCRIPTION:Join other colored pencil enthusiasts and artists for fellowship while working on your curent colored pencil project
URL:https://cpsa125.org/event/open-draw-monday-78/
LOCATION:Mary Alice Warren Community Center\, 7632 Warren Pk Dr\, Lewisville\, NC\, 27023\, United States
CATEGORIES:Open Draw
END:VEVENT
BEGIN:VEVENT
DTSTART;TZID=America/New_York:20260711T110000
DTEND;TZID=America/New_York:20260711T130000
DTSTAMP:20260423T154817
CREATED:20250806T184937Z
LAST-MODIFIED:20251117T202156Z
UID:2206-1783767600-1783774800@cpsa125.org
SUMMARY:Colored Pencil Explorers -Convention Project Completion
DESCRIPTION:
URL:https://cpsa125.org/event/colored-pencil-explorers-18/
LOCATION:Mary Alice Warren Community Center\, 7632 Warren Pk Dr\, Lewisville\, NC\, 27023\, United States
CATEGORIES:Colored Pencil Explorers
END:VEVENT
BEGIN:VEVENT
DTSTART;TZID=UTC:20260713T100000
DTEND;TZID=UTC:20260713T120000
DTSTAMP:20260423T154817
CREATED:20241205T072053Z
LAST-MODIFIED:20241205T072053Z
UID:920-1783936800-1783944000@cpsa125.org
SUMMARY:Open Draw Monday
DESCRIPTION:Join other colored pencil enthusiasts and artists for fellowship while working on your curent colored pencil project
URL:https://cpsa125.org/event/open-draw-monday-79/
LOCATION:Mary Alice Warren Community Center\, 7632 Warren Pk Dr\, Lewisville\, NC\, 27023\, United States
CATEGORIES:Open Draw
END:VEVENT
BEGIN:VEVENT
DTSTART;TZID=UTC:20260720T100000
DTEND;TZID=UTC:20260720T120000
DTSTAMP:20260423T154817
CREATED:20241205T072054Z
LAST-MODIFIED:20241205T072054Z
UID:921-1784541600-1784548800@cpsa125.org
SUMMARY:Open Draw Monday
DESCRIPTION:Join other colored pencil enthusiasts and artists for fellowship while working on your curent colored pencil project
URL:https://cpsa125.org/event/open-draw-monday-80/
LOCATION:Mary Alice Warren Community Center\, 7632 Warren Pk Dr\, Lewisville\, NC\, 27023\, United States
CATEGORIES:Open Draw
END:VEVENT
BEGIN:VEVENT
DTSTART;TZID=UTC:20260727T100000
DTEND;TZID=UTC:20260727T120000
DTSTAMP:20260423T154817
CREATED:20241205T072054Z
LAST-MODIFIED:20241205T072054Z
UID:922-1785146400-1785153600@cpsa125.org
SUMMARY:Open Draw Monday
DESCRIPTION:Join other colored pencil enthusiasts and artists for fellowship while working on your curent colored pencil project
URL:https://cpsa125.org/event/open-draw-monday-81/
LOCATION:Mary Alice Warren Community Center\, 7632 Warren Pk Dr\, Lewisville\, NC\, 27023\, United States
CATEGORIES:Open Draw
END:VEVENT
BEGIN:VEVENT
DTSTART;VALUE=DATE:20260729
DTEND;VALUE=DATE:20260802
DTSTAMP:20260423T154817
CREATED:20250707T174354Z
LAST-MODIFIED:20260225T195229Z
UID:1964-1785283200-1785628799@cpsa125.org
SUMMARY:CPSA 2026 CONVENTION - PRESCOTT\, AZ
DESCRIPTION:
URL:https://cpsa125.org/event/cpsa-2026-convention-prescott-az/
LOCATION:Prescott Resort and Convention Center\, 1500 East State Route 69\, Prescott\, AZ\, 86305\, United States
CATEGORIES:COLOR PENCIL SOCIETY EVENT
END:VEVENT
BEGIN:VEVENT
DTSTART;VALUE=DATE:20260801
DTEND;VALUE=DATE:20260802
DTSTAMP:20260423T154817
CREATED:20251117T202455Z
LAST-MODIFIED:20251117T202455Z
UID:2509-1785542400-1785628799@cpsa125.org
SUMMARY:DEADLINE FOR FINAL RETREAT PAYMENT
DESCRIPTION:
URL:https://cpsa125.org/event/deadline-for-final-retreat-payment/
END:VEVENT
BEGIN:VEVENT
DTSTART;TZID=UTC:20260803T100000
DTEND;TZID=UTC:20260803T120000
DTSTAMP:20260423T154817
CREATED:20241205T072054Z
LAST-MODIFIED:20241205T072054Z
UID:923-1785751200-1785758400@cpsa125.org
SUMMARY:Open Draw Monday
DESCRIPTION:Join other colored pencil enthusiasts and artists for fellowship while working on your curent colored pencil project
URL:https://cpsa125.org/event/open-draw-monday-82/
LOCATION:Mary Alice Warren Community Center\, 7632 Warren Pk Dr\, Lewisville\, NC\, 27023\, United States
CATEGORIES:Open Draw
END:VEVENT
BEGIN:VEVENT
DTSTART;TZID=America/New_York:20260808T110000
DTEND;TZID=America/New_York:20260808T130000
DTSTAMP:20260423T154817
CREATED:20250806T185025Z
LAST-MODIFIED:20251117T202354Z
UID:2208-1786186800-1786194000@cpsa125.org
SUMMARY:Colored Pencil Explorers - OPEN
DESCRIPTION:
URL:https://cpsa125.org/event/colored-pencil-explorers-19/
LOCATION:Mary Alice Warren Community Center\, 7632 Warren Pk Dr\, Lewisville\, NC\, 27023\, United States
CATEGORIES:Colored Pencil Explorers
END:VEVENT
END:VCALENDAR