BEGIN:VCALENDAR
VERSION:2.0
PRODID:-//CPSA DC 125 - ECPv6.15.20//NONSGML v1.0//EN
CALSCALE:GREGORIAN
METHOD:PUBLISH
X-WR-CALNAME:CPSA DC 125
X-ORIGINAL-URL:https://cpsa125.org
X-WR-CALDESC:Events for CPSA DC 125
REFRESH-INTERVAL;VALUE=DURATION:PT1H
X-Robots-Tag:noindex
X-PUBLISHED-TTL:PT1H
BEGIN:VTIMEZONE
TZID:UTC
BEGIN:STANDARD
TZOFFSETFROM:+0000
TZOFFSETTO:+0000
TZNAME:UTC
DTSTART:20240101T000000
END:STANDARD
END:VTIMEZONE
BEGIN:VTIMEZONE
TZID:America/New_York
BEGIN:DAYLIGHT
TZOFFSETFROM:-0500
TZOFFSETTO:-0400
TZNAME:EDT
DTSTART:20240310T070000
END:DAYLIGHT
BEGIN:STANDARD
TZOFFSETFROM:-0400
TZOFFSETTO:-0500
TZNAME:EST
DTSTART:20241103T060000
END:STANDARD
BEGIN:DAYLIGHT
TZOFFSETFROM:-0500
TZOFFSETTO:-0400
TZNAME:EDT
DTSTART:20250309T070000
END:DAYLIGHT
BEGIN:STANDARD
TZOFFSETFROM:-0400
TZOFFSETTO:-0500
TZNAME:EST
DTSTART:20251102T060000
END:STANDARD
BEGIN:DAYLIGHT
TZOFFSETFROM:-0500
TZOFFSETTO:-0400
TZNAME:EDT
DTSTART:20260308T070000
END:DAYLIGHT
BEGIN:STANDARD
TZOFFSETFROM:-0400
TZOFFSETTO:-0500
TZNAME:EST
DTSTART:20261101T060000
END:STANDARD
END:VTIMEZONE
BEGIN:VEVENT
DTSTART;TZID=UTC:20251108T110000
DTEND;TZID=UTC:20251108T130000
DTSTAMP:20260423T193825
CREATED:20241205T072157Z
LAST-MODIFIED:20241205T072157Z
UID:953-1762599600-1762606800@cpsa125.org
SUMMARY:Colored Pencil Explorers
DESCRIPTION:Monthly meeting to explore and learn all that colored pencils have to offer.
URL:https://cpsa125.org/event/colored-pencil-explorers-11/
LOCATION:Mary Alice Warren Community Center\, 7632 Warren Pk Dr\, Lewisville\, NC\, 27023\, United States
CATEGORIES:Colored Pencil Explorers
END:VEVENT
BEGIN:VEVENT
DTSTART;TZID=UTC:20251103T100000
DTEND;TZID=UTC:20251103T120000
DTSTAMP:20260423T193825
CREATED:20241205T071710Z
LAST-MODIFIED:20241205T071710Z
UID:886-1762164000-1762171200@cpsa125.org
SUMMARY:Open Draw Monday
DESCRIPTION:Join other colored pencil enthusiasts and artists for fellowship while working on your curent colored pencil project
URL:https://cpsa125.org/event/open-draw-monday-46/
LOCATION:Mary Alice Warren Community Center\, 7632 Warren Pk Dr\, Lewisville\, NC\, 27023\, United States
CATEGORIES:Open Draw
END:VEVENT
BEGIN:VEVENT
DTSTART;TZID=America/New_York:20251102T150000
DTEND;TZID=America/New_York:20251102T170000
DTSTAMP:20260423T193825
CREATED:20251102T184045Z
LAST-MODIFIED:20251102T184045Z
UID:2352-1762095600-1762102800@cpsa125.org
SUMMARY:CPSA125 BOARD MEETING
DESCRIPTION:
URL:https://cpsa125.org/event/cpsa125-board-meeting/
LOCATION:ZOOM MEETING\, United States
CATEGORIES:Board Meeting
ORGANIZER;CN="Susan Morris":MAILTO:President@cpsa125.org
END:VEVENT
BEGIN:VEVENT
DTSTART;TZID=America/New_York:20251101T090000
DTEND;TZID=America/New_York:20251101T160000
DTSTAMP:20260423T193825
CREATED:20251017T164244Z
LAST-MODIFIED:20251117T193316Z
UID:2305-1761987600-1762012800@cpsa125.org
SUMMARY:Workshop - "Narrative Story Telling in Your Art" Unlocking Your Creativity with Tracy Frein
DESCRIPTION:In this one-of-a-kind workshop\, Tracy Frein shares his approach to strengthening the creative process\, welcoming artists of all kinds to explore the heart of creativity. Through engaging exercises\, inspiring talks\, and supportive group and individual work\, you’ll uncover your personal vision and learn how to bring deeper meaning into your art. The atmosphere is energizing\, encouraging\, and fun—perfect for breaking through creative blocks and discovering your unique voice. \nWant to hear more from Tracy himself? Check out this interview with Tracy about the workshop. Click HERE . \n. \nAs with our other workshops\, this workshop will be offered online via Zoom. But\, if you are close to Lewisville\, NC\, we are also offering a Watch Party for attendees to enjoy the workshop in the company of others. The workshop will be recorded and sent to registrants after the workshop. \nWorkshop details and registration are available on our website –  www.cpsa125.org/Workshops
URL:https://cpsa125.org/event/workshop-narrative-story-telling-in-your-art-unlocking-your-creativity-with-tracy-frein/
LOCATION:Mary Alice Warren Community Center\, 7632 Warren Pk Dr\, Lewisville\, NC\, 27023\, United States
CATEGORIES:Workshops
ORGANIZER;CN="CPSA DC 125":MAILTO:President@cpsa125.org
END:VEVENT
BEGIN:VEVENT
DTSTART;TZID=UTC:20251027T100000
DTEND;TZID=UTC:20251027T120000
DTSTAMP:20260423T193825
CREATED:20241205T071710Z
LAST-MODIFIED:20241205T071710Z
UID:885-1761559200-1761566400@cpsa125.org
SUMMARY:Open Draw Monday
DESCRIPTION:Join other colored pencil enthusiasts and artists for fellowship while working on your curent colored pencil project
URL:https://cpsa125.org/event/open-draw-monday-45/
LOCATION:Mary Alice Warren Community Center\, 7632 Warren Pk Dr\, Lewisville\, NC\, 27023\, United States
CATEGORIES:Open Draw
END:VEVENT
BEGIN:VEVENT
DTSTART;TZID=UTC:20251020T100000
DTEND;TZID=UTC:20251020T120000
DTSTAMP:20260423T193825
CREATED:20241205T071710Z
LAST-MODIFIED:20241205T071710Z
UID:884-1760954400-1760961600@cpsa125.org
SUMMARY:Open Draw Monday
DESCRIPTION:Join other colored pencil enthusiasts and artists for fellowship while working on your curent colored pencil project
URL:https://cpsa125.org/event/open-draw-monday-44/
LOCATION:Mary Alice Warren Community Center\, 7632 Warren Pk Dr\, Lewisville\, NC\, 27023\, United States
CATEGORIES:Open Draw
END:VEVENT
BEGIN:VEVENT
DTSTART;TZID=America/New_York:20251018T090000
DTEND;TZID=America/New_York:20251018T160000
DTSTAMP:20260423T193825
CREATED:20250101T064036Z
LAST-MODIFIED:20250102T054319Z
UID:1339-1760778000-1760803200@cpsa125.org
SUMMARY:Workshop - "White Horse" with Bonny Snowdon
DESCRIPTION:  For more information and to register\, click HERE
URL:https://cpsa125.org/event/workshop-grey-horse-with-bonny-snowdon/
LOCATION:Mary Alice Warren Community Center\, 7632 Warren Pk Dr\, Lewisville\, NC\, 27023\, United States
CATEGORIES:Workshops
END:VEVENT
BEGIN:VEVENT
DTSTART;TZID=UTC:20251013T100000
DTEND;TZID=UTC:20251013T120000
DTSTAMP:20260423T193825
CREATED:20241205T071510Z
LAST-MODIFIED:20241205T071510Z
UID:883-1760349600-1760356800@cpsa125.org
SUMMARY:Open Draw Monday
DESCRIPTION:Join other colored pencil enthusiasts and artists for fellowship while working on your curent colored pencil project
URL:https://cpsa125.org/event/open-draw-monday-43/
LOCATION:Mary Alice Warren Community Center\, 7632 Warren Pk Dr\, Lewisville\, NC\, 27023\, United States
CATEGORIES:Open Draw
END:VEVENT
BEGIN:VEVENT
DTSTART;TZID=UTC:20251011T110000
DTEND;TZID=UTC:20251011T130000
DTSTAMP:20260423T193825
CREATED:20241205T072157Z
LAST-MODIFIED:20241205T072157Z
UID:952-1760180400-1760187600@cpsa125.org
SUMMARY:Colored Pencil Explorers
DESCRIPTION:Monthly meeting to explore and learn all that colored pencils have to offer.
URL:https://cpsa125.org/event/colored-pencil-explorers-10/
LOCATION:Mary Alice Warren Community Center\, 7632 Warren Pk Dr\, Lewisville\, NC\, 27023\, United States
CATEGORIES:Colored Pencil Explorers
END:VEVENT
BEGIN:VEVENT
DTSTART;TZID=UTC:20251006T100000
DTEND;TZID=UTC:20251006T120000
DTSTAMP:20260423T193825
CREATED:20241205T071509Z
LAST-MODIFIED:20241205T071509Z
UID:882-1759744800-1759752000@cpsa125.org
SUMMARY:Open Draw Monday
DESCRIPTION:Join other colored pencil enthusiasts and artists for fellowship while working on your curent colored pencil project
URL:https://cpsa125.org/event/open-draw-monday-42/
LOCATION:Mary Alice Warren Community Center\, 7632 Warren Pk Dr\, Lewisville\, NC\, 27023\, United States
CATEGORIES:Open Draw
END:VEVENT
BEGIN:VEVENT
DTSTART;TZID=UTC:20250929T100000
DTEND;TZID=UTC:20250929T120000
DTSTAMP:20260423T193825
CREATED:20241205T071509Z
LAST-MODIFIED:20241205T071509Z
UID:881-1759140000-1759147200@cpsa125.org
SUMMARY:Open Draw Monday
DESCRIPTION:Join other colored pencil enthusiasts and artists for fellowship while working on your curent colored pencil project
URL:https://cpsa125.org/event/open-draw-monday-41/
LOCATION:Mary Alice Warren Community Center\, 7632 Warren Pk Dr\, Lewisville\, NC\, 27023\, United States
CATEGORIES:Open Draw
END:VEVENT
BEGIN:VEVENT
DTSTART;TZID=America/New_York:20250927T100000
DTEND;TZID=America/New_York:20250927T170000
DTSTAMP:20260423T193825
CREATED:20250101T062841Z
LAST-MODIFIED:20250102T044938Z
UID:1336-1758967200-1758992400@cpsa125.org
SUMMARY:Two-Day Workshop - Sept 26 & 27 - "Maine Coon Cat" with Gemma Gylling
DESCRIPTION:  For more information and to register\, click HERE
URL:https://cpsa125.org/event/two-day-workshop-sept-25-26-maine-coon-cat-with-gemma-gylling-2/
LOCATION:Mary Alice Warren Community Center\, 7632 Warren Pk Dr\, Lewisville\, NC\, 27023\, United States
CATEGORIES:Workshops
END:VEVENT
BEGIN:VEVENT
DTSTART;TZID=America/New_York:20250926T100000
DTEND;TZID=America/New_York:20250926T170000
DTSTAMP:20260423T193825
CREATED:20250101T062215Z
LAST-MODIFIED:20250101T062215Z
UID:1331-1758880800-1758906000@cpsa125.org
SUMMARY:Two-Day Workshop  Sept 25 & 26 - "Maine Coon Cat" with Gemma Gylling
DESCRIPTION:   For more information and to register\, click HERE
URL:https://cpsa125.org/event/two-day-workshop-sept-25-26-maine-coon-cat-with-gemma-gylling/
LOCATION:Mary Alice Warren Community Center\, 7632 Warren Pk Dr\, Lewisville\, NC\, 27023\, United States
CATEGORIES:Workshops
END:VEVENT
BEGIN:VEVENT
DTSTART;TZID=UTC:20250922T100000
DTEND;TZID=UTC:20250922T120000
DTSTAMP:20260423T193825
CREATED:20241205T071509Z
LAST-MODIFIED:20241205T071509Z
UID:880-1758535200-1758542400@cpsa125.org
SUMMARY:Open Draw Monday
DESCRIPTION:Join other colored pencil enthusiasts and artists for fellowship while working on your curent colored pencil project
URL:https://cpsa125.org/event/open-draw-monday-40/
LOCATION:Mary Alice Warren Community Center\, 7632 Warren Pk Dr\, Lewisville\, NC\, 27023\, United States
CATEGORIES:Open Draw
END:VEVENT
BEGIN:VEVENT
DTSTART;TZID=UTC:20250915T100000
DTEND;TZID=UTC:20250915T120000
DTSTAMP:20260423T193825
CREATED:20241205T071508Z
LAST-MODIFIED:20241205T071508Z
UID:879-1757930400-1757937600@cpsa125.org
SUMMARY:Open Draw Monday
DESCRIPTION:Join other colored pencil enthusiasts and artists for fellowship while working on your curent colored pencil project
URL:https://cpsa125.org/event/open-draw-monday-39/
LOCATION:Mary Alice Warren Community Center\, 7632 Warren Pk Dr\, Lewisville\, NC\, 27023\, United States
CATEGORIES:Open Draw
END:VEVENT
BEGIN:VEVENT
DTSTART;TZID=UTC:20250913T110000
DTEND;TZID=UTC:20250913T130000
DTSTAMP:20260423T193825
CREATED:20241205T072157Z
LAST-MODIFIED:20241205T072157Z
UID:951-1757761200-1757768400@cpsa125.org
SUMMARY:Colored Pencil Explorers
DESCRIPTION:Monthly meeting to explore and learn all that colored pencils have to offer.
URL:https://cpsa125.org/event/colored-pencil-explorers-9/
LOCATION:Mary Alice Warren Community Center\, 7632 Warren Pk Dr\, Lewisville\, NC\, 27023\, United States
CATEGORIES:Colored Pencil Explorers
END:VEVENT
BEGIN:VEVENT
DTSTART;TZID=UTC:20250908T100000
DTEND;TZID=UTC:20250908T120000
DTSTAMP:20260423T193825
CREATED:20241205T071308Z
LAST-MODIFIED:20241205T071308Z
UID:878-1757325600-1757332800@cpsa125.org
SUMMARY:Open Draw Monday
DESCRIPTION:Join other colored pencil enthusiasts and artists for fellowship while working on your curent colored pencil project
URL:https://cpsa125.org/event/open-draw-monday-38/
LOCATION:Mary Alice Warren Community Center\, 7632 Warren Pk Dr\, Lewisville\, NC\, 27023\, United States
CATEGORIES:Open Draw
END:VEVENT
BEGIN:VEVENT
DTSTART;TZID=UTC:20250901T100000
DTEND;TZID=UTC:20250901T120000
DTSTAMP:20260423T193825
CREATED:20241205T071308Z
LAST-MODIFIED:20241205T071308Z
UID:877-1756720800-1756728000@cpsa125.org
SUMMARY:HOLIDAY - NO Open Draw Monday
DESCRIPTION:Join other colored pencil enthusiasts and artists for fellowship while working on your curent colored pencil project
URL:https://cpsa125.org/event/holiday-no-open-draw-monday-2/
LOCATION:Mary Alice Warren Community Center\, 7632 Warren Pk Dr\, Lewisville\, NC\, 27023\, United States
CATEGORIES:Open Draw
END:VEVENT
BEGIN:VEVENT
DTSTART;TZID=UTC:20250825T100000
DTEND;TZID=UTC:20250825T120000
DTSTAMP:20260423T193825
CREATED:20241205T071308Z
LAST-MODIFIED:20241205T071308Z
UID:876-1756116000-1756123200@cpsa125.org
SUMMARY:Open Draw Monday
DESCRIPTION:Join other colored pencil enthusiasts and artists for fellowship while working on your curent colored pencil project
URL:https://cpsa125.org/event/open-draw-monday-37/
LOCATION:Mary Alice Warren Community Center\, 7632 Warren Pk Dr\, Lewisville\, NC\, 27023\, United States
CATEGORIES:Open Draw
END:VEVENT
BEGIN:VEVENT
DTSTART;TZID=America/New_York:20250823T090000
DTEND;TZID=America/New_York:20250823T160000
DTSTAMP:20260423T193825
CREATED:20250101T055832Z
LAST-MODIFIED:20250101T061137Z
UID:1328-1755939600-1755964800@cpsa125.org
SUMMARY:Workshop - "Watery Dance" with Scott Krohn
DESCRIPTION:  For more information and to register\, click HERE
URL:https://cpsa125.org/event/workshop-watery-dance-with-scott-krohn/
LOCATION:Mary Alice Warren Community Center\, 7632 Warren Pk Dr\, Lewisville\, NC\, 27023\, United States
CATEGORIES:Workshops
END:VEVENT
BEGIN:VEVENT
DTSTART;TZID=UTC:20250818T100000
DTEND;TZID=UTC:20250818T120000
DTSTAMP:20260423T193825
CREATED:20241205T071308Z
LAST-MODIFIED:20241205T071308Z
UID:875-1755511200-1755518400@cpsa125.org
SUMMARY:Open Draw Monday
DESCRIPTION:Join other colored pencil enthusiasts and artists for fellowship while working on your curent colored pencil project
URL:https://cpsa125.org/event/open-draw-monday-36/
LOCATION:Mary Alice Warren Community Center\, 7632 Warren Pk Dr\, Lewisville\, NC\, 27023\, United States
CATEGORIES:Open Draw
END:VEVENT
BEGIN:VEVENT
DTSTART;TZID=UTC:20250811T100000
DTEND;TZID=UTC:20250811T120000
DTSTAMP:20260423T193825
CREATED:20241205T071307Z
LAST-MODIFIED:20241205T071307Z
UID:874-1754906400-1754913600@cpsa125.org
SUMMARY:Open Draw Monday
DESCRIPTION:Join other colored pencil enthusiasts and artists for fellowship while working on your curent colored pencil project
URL:https://cpsa125.org/event/open-draw-monday-35/
LOCATION:Mary Alice Warren Community Center\, 7632 Warren Pk Dr\, Lewisville\, NC\, 27023\, United States
CATEGORIES:Open Draw
END:VEVENT
BEGIN:VEVENT
DTSTART;TZID=America/New_York:20250809T133000
DTEND;TZID=America/New_York:20250809T153000
DTSTAMP:20260423T193825
CREATED:20250722T155626Z
LAST-MODIFIED:20250722T160129Z
UID:2136-1754746200-1754753400@cpsa125.org
SUMMARY:CPSA125 CHAPTER MEETING
DESCRIPTION:
URL:https://cpsa125.org/event/cpsa125-chapter-meeting-2/
LOCATION:Mary Alice Warren Community Center\, 7632 Warren Pk Dr\, Lewisville\, NC\, 27023\, United States
END:VEVENT
BEGIN:VEVENT
DTSTART;TZID=UTC:20250809T110000
DTEND;TZID=UTC:20250809T130000
DTSTAMP:20260423T193825
CREATED:20241205T072157Z
LAST-MODIFIED:20241205T072157Z
UID:950-1754737200-1754744400@cpsa125.org
SUMMARY:Colored Pencil Explorers
DESCRIPTION:Monthly meeting to explore and learn all that colored pencils have to offer.
URL:https://cpsa125.org/event/colored-pencil-explorers-8/
LOCATION:Mary Alice Warren Community Center\, 7632 Warren Pk Dr\, Lewisville\, NC\, 27023\, United States
CATEGORIES:Colored Pencil Explorers
END:VEVENT
BEGIN:VEVENT
DTSTART;TZID=UTC:20250804T100000
DTEND;TZID=UTC:20250804T120000
DTSTAMP:20260423T193825
CREATED:20241205T071108Z
LAST-MODIFIED:20241205T071108Z
UID:873-1754301600-1754308800@cpsa125.org
SUMMARY:Open Draw Monday
DESCRIPTION:Join other colored pencil enthusiasts and artists for fellowship while working on your curent colored pencil project
URL:https://cpsa125.org/event/open-draw-monday-34/
LOCATION:Mary Alice Warren Community Center\, 7632 Warren Pk Dr\, Lewisville\, NC\, 27023\, United States
CATEGORIES:Open Draw
END:VEVENT
BEGIN:VEVENT
DTSTART;VALUE=DATE:20250730
DTEND;VALUE=DATE:20250803
DTSTAMP:20260423T193825
CREATED:20250707T173758Z
LAST-MODIFIED:20250707T173758Z
UID:1960-1753833600-1754179199@cpsa125.org
SUMMARY:CPSA 2025 CONVENTION - BETHESDA\, MD
DESCRIPTION:
URL:https://cpsa125.org/event/cpsa-2025-convention-bethesda-md/
LOCATION:Mansion at Stratmore\, 10701 Roockville Pike\, North Bethesda\, MD\, 20852\, United States
END:VEVENT
BEGIN:VEVENT
DTSTART;TZID=UTC:20250728T100000
DTEND;TZID=UTC:20250728T120000
DTSTAMP:20260423T193825
CREATED:20241205T071107Z
LAST-MODIFIED:20241205T071107Z
UID:872-1753696800-1753704000@cpsa125.org
SUMMARY:Open Draw Monday
DESCRIPTION:Join other colored pencil enthusiasts and artists for fellowship while working on your curent colored pencil project
URL:https://cpsa125.org/event/open-draw-monday-33/
LOCATION:Mary Alice Warren Community Center\, 7632 Warren Pk Dr\, Lewisville\, NC\, 27023\, United States
CATEGORIES:Open Draw
END:VEVENT
BEGIN:VEVENT
DTSTART;TZID=UTC:20250721T100000
DTEND;TZID=UTC:20250721T120000
DTSTAMP:20260423T193825
CREATED:20241205T071107Z
LAST-MODIFIED:20241205T071107Z
UID:871-1753092000-1753099200@cpsa125.org
SUMMARY:Open Draw Monday
DESCRIPTION:Join other colored pencil enthusiasts and artists for fellowship while working on your curent colored pencil project
URL:https://cpsa125.org/event/open-draw-monday-32/
LOCATION:Mary Alice Warren Community Center\, 7632 Warren Pk Dr\, Lewisville\, NC\, 27023\, United States
CATEGORIES:Open Draw
END:VEVENT
BEGIN:VEVENT
DTSTART;TZID=UTC:20250714T100000
DTEND;TZID=UTC:20250714T120000
DTSTAMP:20260423T193825
CREATED:20241205T071107Z
LAST-MODIFIED:20241205T071107Z
UID:870-1752487200-1752494400@cpsa125.org
SUMMARY:Open Draw Monday
DESCRIPTION:Join other colored pencil enthusiasts and artists for fellowship while working on your curent colored pencil project
URL:https://cpsa125.org/event/open-draw-monday-31/
LOCATION:Mary Alice Warren Community Center\, 7632 Warren Pk Dr\, Lewisville\, NC\, 27023\, United States
CATEGORIES:Open Draw
END:VEVENT
BEGIN:VEVENT
DTSTART;TZID=America/New_York:20250712T133000
DTEND;TZID=America/New_York:20250712T143000
DTSTAMP:20260423T193825
CREATED:20250707T175228Z
LAST-MODIFIED:20250707T175228Z
UID:1969-1752327000-1752330600@cpsa125.org
SUMMARY:CPSA125 CHAPTER MEETING
DESCRIPTION:
URL:https://cpsa125.org/event/cpsa125-chapter-meeting/
LOCATION:Mary Alice Warren Community Center\, 7632 Warren Pk Dr\, Lewisville\, NC\, 27023\, United States
END:VEVENT
END:VCALENDAR