BEGIN:VCALENDAR
VERSION:2.0
PRODID:-//CPSA DC 125 - ECPv6.15.20//NONSGML v1.0//EN
CALSCALE:GREGORIAN
METHOD:PUBLISH
X-ORIGINAL-URL:https://cpsa125.org
X-WR-CALDESC:Events for CPSA DC 125
REFRESH-INTERVAL;VALUE=DURATION:PT1H
X-Robots-Tag:noindex
X-PUBLISHED-TTL:PT1H
BEGIN:VTIMEZONE
TZID:UTC
BEGIN:STANDARD
TZOFFSETFROM:+0000
TZOFFSETTO:+0000
TZNAME:UTC
DTSTART:20240101T000000
END:STANDARD
END:VTIMEZONE
BEGIN:VTIMEZONE
TZID:America/New_York
BEGIN:DAYLIGHT
TZOFFSETFROM:-0500
TZOFFSETTO:-0400
TZNAME:EDT
DTSTART:20240310T070000
END:DAYLIGHT
BEGIN:STANDARD
TZOFFSETFROM:-0400
TZOFFSETTO:-0500
TZNAME:EST
DTSTART:20241103T060000
END:STANDARD
BEGIN:DAYLIGHT
TZOFFSETFROM:-0500
TZOFFSETTO:-0400
TZNAME:EDT
DTSTART:20250309T070000
END:DAYLIGHT
BEGIN:STANDARD
TZOFFSETFROM:-0400
TZOFFSETTO:-0500
TZNAME:EST
DTSTART:20251102T060000
END:STANDARD
BEGIN:DAYLIGHT
TZOFFSETFROM:-0500
TZOFFSETTO:-0400
TZNAME:EDT
DTSTART:20260308T070000
END:DAYLIGHT
BEGIN:STANDARD
TZOFFSETFROM:-0400
TZOFFSETTO:-0500
TZNAME:EST
DTSTART:20261101T060000
END:STANDARD
BEGIN:DAYLIGHT
TZOFFSETFROM:-0500
TZOFFSETTO:-0400
TZNAME:EDT
DTSTART:20270314T070000
END:DAYLIGHT
BEGIN:STANDARD
TZOFFSETFROM:-0400
TZOFFSETTO:-0500
TZNAME:EST
DTSTART:20271107T060000
END:STANDARD
END:VTIMEZONE
BEGIN:VEVENT
DTSTART;TZID=UTC:20260202T100000
DTEND;TZID=UTC:20260202T120000
DTSTAMP:20260423T171952
CREATED:20241205T071938Z
LAST-MODIFIED:20241205T071938Z
UID:897-1770026400-1770033600@cpsa125.org
SUMMARY:Open Draw Monday
DESCRIPTION:Join other colored pencil enthusiasts and artists for fellowship while working on your curent colored pencil project
URL:https://cpsa125.org/event/open-draw-monday-57/
LOCATION:Mary Alice Warren Community Center\, 7632 Warren Pk Dr\, Lewisville\, NC\, 27023\, United States
CATEGORIES:Open Draw
END:VEVENT
BEGIN:VEVENT
DTSTART;TZID=America/New_York:20260131T090000
DTEND;TZID=America/New_York:20260131T160000
DTSTAMP:20260423T171952
CREATED:20251117T184451Z
LAST-MODIFIED:20251119T212708Z
UID:2466-1769850000-1769875200@cpsa125.org
SUMMARY:WORKSHOP - Anda Chance "Artist Bootcamp"
DESCRIPTION:
URL:https://cpsa125.org/event/workshop-anda-chance-artist-bootcamp/
LOCATION:ZOOM MEETING\, United States
CATEGORIES:Workshops
ORGANIZER;CN="CPSA DC 125":MAILTO:President@cpsa125.org
END:VEVENT
BEGIN:VEVENT
DTSTART;TZID=UTC:20260126T100000
DTEND;TZID=UTC:20260126T120000
DTSTAMP:20260423T171952
CREATED:20241205T071938Z
LAST-MODIFIED:20241205T071938Z
UID:896-1769421600-1769428800@cpsa125.org
SUMMARY:Open Draw Monday
DESCRIPTION:Join other colored pencil enthusiasts and artists for fellowship while working on your curent colored pencil project
URL:https://cpsa125.org/event/open-draw-monday-56/
LOCATION:Mary Alice Warren Community Center\, 7632 Warren Pk Dr\, Lewisville\, NC\, 27023\, United States
CATEGORIES:Open Draw
END:VEVENT
BEGIN:VEVENT
DTSTART;TZID=UTC:20260119T100000
DTEND;TZID=UTC:20260119T120000
DTSTAMP:20260423T171952
CREATED:20241205T071938Z
LAST-MODIFIED:20241205T071938Z
UID:895-1768816800-1768824000@cpsa125.org
SUMMARY:Open Draw Monday
DESCRIPTION:Join other colored pencil enthusiasts and artists for fellowship while working on your curent colored pencil project
URL:https://cpsa125.org/event/open-draw-monday-55/
LOCATION:Mary Alice Warren Community Center\, 7632 Warren Pk Dr\, Lewisville\, NC\, 27023\, United States
CATEGORIES:Open Draw
END:VEVENT
BEGIN:VEVENT
DTSTART;VALUE=DATE:20260119
DTEND;VALUE=DATE:20260120
DTSTAMP:20260423T171952
CREATED:20250806T182653Z
LAST-MODIFIED:20250806T182653Z
UID:2170-1768780800-1768867199@cpsa125.org
SUMMARY:ML KING DAY
DESCRIPTION:
URL:https://cpsa125.org/event/ml-king-day/
END:VEVENT
BEGIN:VEVENT
DTSTART;TZID=America/New_York:20260112T153000
DTEND;TZID=America/New_York:20260112T163000
DTSTAMP:20260423T171952
CREATED:20260103T221520Z
LAST-MODIFIED:20260103T221520Z
UID:2606-1768231800-1768235400@cpsa125.org
SUMMARY:DC125 Board Meeting
DESCRIPTION:
URL:https://cpsa125.org/event/dc125-board-meeting-4/
LOCATION:ZOOM MEETING\, United States
CATEGORIES:Board Meeting
ORGANIZER;CN="CPSA DC 125":MAILTO:President@cpsa125.org
END:VEVENT
BEGIN:VEVENT
DTSTART;TZID=UTC:20260112T100000
DTEND;TZID=UTC:20260112T120000
DTSTAMP:20260423T171952
CREATED:20241205T071938Z
LAST-MODIFIED:20241205T071938Z
UID:894-1768212000-1768219200@cpsa125.org
SUMMARY:Open Draw Monday
DESCRIPTION:Join other colored pencil enthusiasts and artists for fellowship while working on your curent colored pencil project
URL:https://cpsa125.org/event/open-draw-monday-54/
LOCATION:Mary Alice Warren Community Center\, 7632 Warren Pk Dr\, Lewisville\, NC\, 27023\, United States
CATEGORIES:Open Draw
END:VEVENT
BEGIN:VEVENT
DTSTART;TZID=America/New_York:20260110T110000
DTEND;TZID=America/New_York:20260110T130000
DTSTAMP:20260423T171952
CREATED:20250806T182816Z
LAST-MODIFIED:20251117T191909Z
UID:2172-1768042800-1768050000@cpsa125.org
SUMMARY:Colored Pencil Explorers - Anda Chance Learning Critique
DESCRIPTION:
URL:https://cpsa125.org/event/colored-pencil-explorers-12/
LOCATION:Mary Alice Warren Community Center\, 7632 Warren Pk Dr\, Lewisville\, NC\, 27023\, United States
CATEGORIES:Colored Pencil Explorers
END:VEVENT
BEGIN:VEVENT
DTSTART;TZID=UTC:20260105T100000
DTEND;TZID=UTC:20260105T120000
DTSTAMP:20260423T171952
CREATED:20241205T071912Z
LAST-MODIFIED:20241205T071912Z
UID:893-1767607200-1767614400@cpsa125.org
SUMMARY:Open Draw Monday
DESCRIPTION:Join other colored pencil enthusiasts and artists for fellowship while working on your curent colored pencil project
URL:https://cpsa125.org/event/open-draw-monday-53/
LOCATION:Mary Alice Warren Community Center\, 7632 Warren Pk Dr\, Lewisville\, NC\, 27023\, United States
CATEGORIES:Open Draw
END:VEVENT
BEGIN:VEVENT
DTSTART;VALUE=DATE:20260102
DTEND;VALUE=DATE:20260103
DTSTAMP:20260423T171952
CREATED:20251119T211243Z
LAST-MODIFIED:20251119T211243Z
UID:2566-1767312000-1767398399@cpsa125.org
SUMMARY:NEWSLETTER OUT
DESCRIPTION:
URL:https://cpsa125.org/event/newsletter-out-6/
END:VEVENT
BEGIN:VEVENT
DTSTART;VALUE=DATE:20260101
DTEND;VALUE=DATE:20260102
DTSTAMP:20260423T171952
CREATED:20250806T181930Z
LAST-MODIFIED:20250806T181930Z
UID:2167-1767225600-1767311999@cpsa125.org
SUMMARY:NEW YEARS DAY!
DESCRIPTION:
URL:https://cpsa125.org/event/new-years-day/
END:VEVENT
BEGIN:VEVENT
DTSTART;VALUE=DATE:20251225
DTEND;VALUE=DATE:20251226
DTSTAMP:20260423T171952
CREATED:20251119T204147Z
LAST-MODIFIED:20251119T204147Z
UID:2527-1766620800-1766707199@cpsa125.org
SUMMARY:CHRISTMAS DAY
DESCRIPTION:
URL:https://cpsa125.org/event/christmas-day/
END:VEVENT
BEGIN:VEVENT
DTSTART;TZID=UTC:20251215T100000
DTEND;TZID=UTC:20251215T120000
DTSTAMP:20260423T171952
CREATED:20241205T071912Z
LAST-MODIFIED:20241205T071912Z
UID:892-1765792800-1765800000@cpsa125.org
SUMMARY:Open Draw Monday
DESCRIPTION:Join other colored pencil enthusiasts and artists for fellowship while working on your curent colored pencil project
URL:https://cpsa125.org/event/open-draw-monday-52/
LOCATION:Mary Alice Warren Community Center\, 7632 Warren Pk Dr\, Lewisville\, NC\, 27023\, United States
CATEGORIES:Open Draw
END:VEVENT
BEGIN:VEVENT
DTSTART;TZID=UTC:20251208T100000
DTEND;TZID=UTC:20251208T120000
DTSTAMP:20260423T171952
CREATED:20241205T071911Z
LAST-MODIFIED:20241205T071911Z
UID:891-1765188000-1765195200@cpsa125.org
SUMMARY:Open Draw Monday
DESCRIPTION:Join other colored pencil enthusiasts and artists for fellowship while working on your curent colored pencil project
URL:https://cpsa125.org/event/open-draw-monday-51/
LOCATION:Mary Alice Warren Community Center\, 7632 Warren Pk Dr\, Lewisville\, NC\, 27023\, United States
CATEGORIES:Open Draw
END:VEVENT
BEGIN:VEVENT
DTSTART;TZID=UTC:20251201T100000
DTEND;TZID=UTC:20251201T120000
DTSTAMP:20260423T171952
CREATED:20241205T071911Z
LAST-MODIFIED:20241205T071911Z
UID:890-1764583200-1764590400@cpsa125.org
SUMMARY:Open Draw Monday
DESCRIPTION:Join other colored pencil enthusiasts and artists for fellowship while working on your curent colored pencil project
URL:https://cpsa125.org/event/open-draw-monday-50/
LOCATION:Mary Alice Warren Community Center\, 7632 Warren Pk Dr\, Lewisville\, NC\, 27023\, United States
CATEGORIES:Open Draw
END:VEVENT
BEGIN:VEVENT
DTSTART;VALUE=DATE:20251127
DTEND;VALUE=DATE:20251128
DTSTAMP:20260423T171952
CREATED:20251119T204026Z
LAST-MODIFIED:20251119T204227Z
UID:2525-1764201600-1764287999@cpsa125.org
SUMMARY:THAKSGIVING DAY
DESCRIPTION:
URL:https://cpsa125.org/event/thanksgiving-day/
END:VEVENT
BEGIN:VEVENT
DTSTART;TZID=UTC:20251124T100000
DTEND;TZID=UTC:20251124T120000
DTSTAMP:20260423T171952
CREATED:20241205T071910Z
LAST-MODIFIED:20241205T071910Z
UID:889-1763978400-1763985600@cpsa125.org
SUMMARY:Open Draw Monday
DESCRIPTION:Join other colored pencil enthusiasts and artists for fellowship while working on your curent colored pencil project
URL:https://cpsa125.org/event/open-draw-monday-49/
LOCATION:Mary Alice Warren Community Center\, 7632 Warren Pk Dr\, Lewisville\, NC\, 27023\, United States
CATEGORIES:Open Draw
END:VEVENT
BEGIN:VEVENT
DTSTART;TZID=UTC:20251117T100000
DTEND;TZID=UTC:20251117T120000
DTSTAMP:20260423T171952
CREATED:20241205T071711Z
LAST-MODIFIED:20241205T071711Z
UID:888-1763373600-1763380800@cpsa125.org
SUMMARY:Open Draw Monday
DESCRIPTION:Join other colored pencil enthusiasts and artists for fellowship while working on your curent colored pencil project
URL:https://cpsa125.org/event/open-draw-monday-48/
LOCATION:Mary Alice Warren Community Center\, 7632 Warren Pk Dr\, Lewisville\, NC\, 27023\, United States
CATEGORIES:Open Draw
END:VEVENT
BEGIN:VEVENT
DTSTART;TZID=UTC:20251110T100000
DTEND;TZID=UTC:20251110T120000
DTSTAMP:20260423T171952
CREATED:20241205T071711Z
LAST-MODIFIED:20241205T071711Z
UID:887-1762768800-1762776000@cpsa125.org
SUMMARY:Open Draw Monday
DESCRIPTION:Join other colored pencil enthusiasts and artists for fellowship while working on your curent colored pencil project
URL:https://cpsa125.org/event/open-draw-monday-47/
LOCATION:Mary Alice Warren Community Center\, 7632 Warren Pk Dr\, Lewisville\, NC\, 27023\, United States
CATEGORIES:Open Draw
END:VEVENT
BEGIN:VEVENT
DTSTART;TZID=America/New_York:20251108T110000
DTEND;TZID=America/New_York:20251108T130000
DTSTAMP:20260423T171952
CREATED:20251103T163820Z
LAST-MODIFIED:20251103T164056Z
UID:2356-1762599600-1762606800@cpsa125.org
SUMMARY:CHAPTER MEETING
DESCRIPTION:
URL:https://cpsa125.org/event/chapter-meeting/
LOCATION:ZOOM MEETING\, United States
CATEGORIES:District Chapter Members Only
ORGANIZER;CN="Susan Morris":MAILTO:President@cpsa125.org
END:VEVENT
BEGIN:VEVENT
DTSTART;TZID=UTC:20251108T110000
DTEND;TZID=UTC:20251108T130000
DTSTAMP:20260423T171952
CREATED:20241205T072157Z
LAST-MODIFIED:20241205T072157Z
UID:953-1762599600-1762606800@cpsa125.org
SUMMARY:Colored Pencil Explorers
DESCRIPTION:Monthly meeting to explore and learn all that colored pencils have to offer.
URL:https://cpsa125.org/event/colored-pencil-explorers-11/
LOCATION:Mary Alice Warren Community Center\, 7632 Warren Pk Dr\, Lewisville\, NC\, 27023\, United States
CATEGORIES:Colored Pencil Explorers
END:VEVENT
BEGIN:VEVENT
DTSTART;TZID=UTC:20251103T100000
DTEND;TZID=UTC:20251103T120000
DTSTAMP:20260423T171952
CREATED:20241205T071710Z
LAST-MODIFIED:20241205T071710Z
UID:886-1762164000-1762171200@cpsa125.org
SUMMARY:Open Draw Monday
DESCRIPTION:Join other colored pencil enthusiasts and artists for fellowship while working on your curent colored pencil project
URL:https://cpsa125.org/event/open-draw-monday-46/
LOCATION:Mary Alice Warren Community Center\, 7632 Warren Pk Dr\, Lewisville\, NC\, 27023\, United States
CATEGORIES:Open Draw
END:VEVENT
BEGIN:VEVENT
DTSTART;TZID=America/New_York:20251102T150000
DTEND;TZID=America/New_York:20251102T170000
DTSTAMP:20260423T171952
CREATED:20251102T184045Z
LAST-MODIFIED:20251102T184045Z
UID:2352-1762095600-1762102800@cpsa125.org
SUMMARY:CPSA125 BOARD MEETING
DESCRIPTION:
URL:https://cpsa125.org/event/cpsa125-board-meeting/
LOCATION:ZOOM MEETING\, United States
CATEGORIES:Board Meeting
ORGANIZER;CN="Susan Morris":MAILTO:President@cpsa125.org
END:VEVENT
BEGIN:VEVENT
DTSTART;TZID=America/New_York:20251101T090000
DTEND;TZID=America/New_York:20251101T160000
DTSTAMP:20260423T171952
CREATED:20251017T164244Z
LAST-MODIFIED:20251117T193316Z
UID:2305-1761987600-1762012800@cpsa125.org
SUMMARY:Workshop - "Narrative Story Telling in Your Art" Unlocking Your Creativity with Tracy Frein
DESCRIPTION:In this one-of-a-kind workshop\, Tracy Frein shares his approach to strengthening the creative process\, welcoming artists of all kinds to explore the heart of creativity. Through engaging exercises\, inspiring talks\, and supportive group and individual work\, you’ll uncover your personal vision and learn how to bring deeper meaning into your art. The atmosphere is energizing\, encouraging\, and fun—perfect for breaking through creative blocks and discovering your unique voice. \nWant to hear more from Tracy himself? Check out this interview with Tracy about the workshop. Click HERE . \n. \nAs with our other workshops\, this workshop will be offered online via Zoom. But\, if you are close to Lewisville\, NC\, we are also offering a Watch Party for attendees to enjoy the workshop in the company of others. The workshop will be recorded and sent to registrants after the workshop. \nWorkshop details and registration are available on our website –  www.cpsa125.org/Workshops
URL:https://cpsa125.org/event/workshop-narrative-story-telling-in-your-art-unlocking-your-creativity-with-tracy-frein/
LOCATION:Mary Alice Warren Community Center\, 7632 Warren Pk Dr\, Lewisville\, NC\, 27023\, United States
CATEGORIES:Workshops
ORGANIZER;CN="CPSA DC 125":MAILTO:President@cpsa125.org
END:VEVENT
BEGIN:VEVENT
DTSTART;TZID=UTC:20251027T100000
DTEND;TZID=UTC:20251027T120000
DTSTAMP:20260423T171952
CREATED:20241205T071710Z
LAST-MODIFIED:20241205T071710Z
UID:885-1761559200-1761566400@cpsa125.org
SUMMARY:Open Draw Monday
DESCRIPTION:Join other colored pencil enthusiasts and artists for fellowship while working on your curent colored pencil project
URL:https://cpsa125.org/event/open-draw-monday-45/
LOCATION:Mary Alice Warren Community Center\, 7632 Warren Pk Dr\, Lewisville\, NC\, 27023\, United States
CATEGORIES:Open Draw
END:VEVENT
BEGIN:VEVENT
DTSTART;TZID=UTC:20251020T100000
DTEND;TZID=UTC:20251020T120000
DTSTAMP:20260423T171952
CREATED:20241205T071710Z
LAST-MODIFIED:20241205T071710Z
UID:884-1760954400-1760961600@cpsa125.org
SUMMARY:Open Draw Monday
DESCRIPTION:Join other colored pencil enthusiasts and artists for fellowship while working on your curent colored pencil project
URL:https://cpsa125.org/event/open-draw-monday-44/
LOCATION:Mary Alice Warren Community Center\, 7632 Warren Pk Dr\, Lewisville\, NC\, 27023\, United States
CATEGORIES:Open Draw
END:VEVENT
BEGIN:VEVENT
DTSTART;TZID=America/New_York:20251018T090000
DTEND;TZID=America/New_York:20251018T160000
DTSTAMP:20260423T171952
CREATED:20250101T064036Z
LAST-MODIFIED:20250102T054319Z
UID:1339-1760778000-1760803200@cpsa125.org
SUMMARY:Workshop - "White Horse" with Bonny Snowdon
DESCRIPTION:  For more information and to register\, click HERE
URL:https://cpsa125.org/event/workshop-grey-horse-with-bonny-snowdon/
LOCATION:Mary Alice Warren Community Center\, 7632 Warren Pk Dr\, Lewisville\, NC\, 27023\, United States
CATEGORIES:Workshops
END:VEVENT
BEGIN:VEVENT
DTSTART;TZID=UTC:20251013T100000
DTEND;TZID=UTC:20251013T120000
DTSTAMP:20260423T171952
CREATED:20241205T071510Z
LAST-MODIFIED:20241205T071510Z
UID:883-1760349600-1760356800@cpsa125.org
SUMMARY:Open Draw Monday
DESCRIPTION:Join other colored pencil enthusiasts and artists for fellowship while working on your curent colored pencil project
URL:https://cpsa125.org/event/open-draw-monday-43/
LOCATION:Mary Alice Warren Community Center\, 7632 Warren Pk Dr\, Lewisville\, NC\, 27023\, United States
CATEGORIES:Open Draw
END:VEVENT
BEGIN:VEVENT
DTSTART;TZID=UTC:20251011T110000
DTEND;TZID=UTC:20251011T130000
DTSTAMP:20260423T171952
CREATED:20241205T072157Z
LAST-MODIFIED:20241205T072157Z
UID:952-1760180400-1760187600@cpsa125.org
SUMMARY:Colored Pencil Explorers
DESCRIPTION:Monthly meeting to explore and learn all that colored pencils have to offer.
URL:https://cpsa125.org/event/colored-pencil-explorers-10/
LOCATION:Mary Alice Warren Community Center\, 7632 Warren Pk Dr\, Lewisville\, NC\, 27023\, United States
CATEGORIES:Colored Pencil Explorers
END:VEVENT
BEGIN:VEVENT
DTSTART;TZID=UTC:20251006T100000
DTEND;TZID=UTC:20251006T120000
DTSTAMP:20260423T171952
CREATED:20241205T071509Z
LAST-MODIFIED:20241205T071509Z
UID:882-1759744800-1759752000@cpsa125.org
SUMMARY:Open Draw Monday
DESCRIPTION:Join other colored pencil enthusiasts and artists for fellowship while working on your curent colored pencil project
URL:https://cpsa125.org/event/open-draw-monday-42/
LOCATION:Mary Alice Warren Community Center\, 7632 Warren Pk Dr\, Lewisville\, NC\, 27023\, United States
CATEGORIES:Open Draw
END:VEVENT
END:VCALENDAR