BEGIN:VCALENDAR
VERSION:2.0
PRODID:-//CPSA DC 125 - ECPv6.15.20//NONSGML v1.0//EN
CALSCALE:GREGORIAN
METHOD:PUBLISH
X-ORIGINAL-URL:https://cpsa125.org
X-WR-CALDESC:Events for CPSA DC 125
REFRESH-INTERVAL;VALUE=DURATION:PT1H
X-Robots-Tag:noindex
X-PUBLISHED-TTL:PT1H
BEGIN:VTIMEZONE
TZID:UTC
BEGIN:STANDARD
TZOFFSETFROM:+0000
TZOFFSETTO:+0000
TZNAME:UTC
DTSTART:20250101T000000
END:STANDARD
END:VTIMEZONE
BEGIN:VTIMEZONE
TZID:America/New_York
BEGIN:DAYLIGHT
TZOFFSETFROM:-0500
TZOFFSETTO:-0400
TZNAME:EDT
DTSTART:20250309T070000
END:DAYLIGHT
BEGIN:STANDARD
TZOFFSETFROM:-0400
TZOFFSETTO:-0500
TZNAME:EST
DTSTART:20251102T060000
END:STANDARD
BEGIN:DAYLIGHT
TZOFFSETFROM:-0500
TZOFFSETTO:-0400
TZNAME:EDT
DTSTART:20260308T070000
END:DAYLIGHT
BEGIN:STANDARD
TZOFFSETFROM:-0400
TZOFFSETTO:-0500
TZNAME:EST
DTSTART:20261101T060000
END:STANDARD
BEGIN:DAYLIGHT
TZOFFSETFROM:-0500
TZOFFSETTO:-0400
TZNAME:EDT
DTSTART:20270314T070000
END:DAYLIGHT
BEGIN:STANDARD
TZOFFSETFROM:-0400
TZOFFSETTO:-0500
TZNAME:EST
DTSTART:20271107T060000
END:STANDARD
END:VTIMEZONE
BEGIN:VEVENT
DTSTART;TZID=UTC:20260706T100000
DTEND;TZID=UTC:20260706T120000
DTSTAMP:20260423T172847
CREATED:20241205T072053Z
LAST-MODIFIED:20241205T072053Z
UID:919-1783332000-1783339200@cpsa125.org
SUMMARY:Open Draw Monday
DESCRIPTION:Join other colored pencil enthusiasts and artists for fellowship while working on your curent colored pencil project
URL:https://cpsa125.org/event/open-draw-monday-78/
LOCATION:Mary Alice Warren Community Center\, 7632 Warren Pk Dr\, Lewisville\, NC\, 27023\, United States
CATEGORIES:Open Draw
END:VEVENT
BEGIN:VEVENT
DTSTART;TZID=America/New_York:20260711T110000
DTEND;TZID=America/New_York:20260711T130000
DTSTAMP:20260423T172847
CREATED:20250806T184937Z
LAST-MODIFIED:20251117T202156Z
UID:2206-1783767600-1783774800@cpsa125.org
SUMMARY:Colored Pencil Explorers -Convention Project Completion
DESCRIPTION:
URL:https://cpsa125.org/event/colored-pencil-explorers-18/
LOCATION:Mary Alice Warren Community Center\, 7632 Warren Pk Dr\, Lewisville\, NC\, 27023\, United States
CATEGORIES:Colored Pencil Explorers
END:VEVENT
BEGIN:VEVENT
DTSTART;TZID=UTC:20260713T100000
DTEND;TZID=UTC:20260713T120000
DTSTAMP:20260423T172847
CREATED:20241205T072053Z
LAST-MODIFIED:20241205T072053Z
UID:920-1783936800-1783944000@cpsa125.org
SUMMARY:Open Draw Monday
DESCRIPTION:Join other colored pencil enthusiasts and artists for fellowship while working on your curent colored pencil project
URL:https://cpsa125.org/event/open-draw-monday-79/
LOCATION:Mary Alice Warren Community Center\, 7632 Warren Pk Dr\, Lewisville\, NC\, 27023\, United States
CATEGORIES:Open Draw
END:VEVENT
BEGIN:VEVENT
DTSTART;TZID=UTC:20260720T100000
DTEND;TZID=UTC:20260720T120000
DTSTAMP:20260423T172847
CREATED:20241205T072054Z
LAST-MODIFIED:20241205T072054Z
UID:921-1784541600-1784548800@cpsa125.org
SUMMARY:Open Draw Monday
DESCRIPTION:Join other colored pencil enthusiasts and artists for fellowship while working on your curent colored pencil project
URL:https://cpsa125.org/event/open-draw-monday-80/
LOCATION:Mary Alice Warren Community Center\, 7632 Warren Pk Dr\, Lewisville\, NC\, 27023\, United States
CATEGORIES:Open Draw
END:VEVENT
BEGIN:VEVENT
DTSTART;TZID=UTC:20260727T100000
DTEND;TZID=UTC:20260727T120000
DTSTAMP:20260423T172847
CREATED:20241205T072054Z
LAST-MODIFIED:20241205T072054Z
UID:922-1785146400-1785153600@cpsa125.org
SUMMARY:Open Draw Monday
DESCRIPTION:Join other colored pencil enthusiasts and artists for fellowship while working on your curent colored pencil project
URL:https://cpsa125.org/event/open-draw-monday-81/
LOCATION:Mary Alice Warren Community Center\, 7632 Warren Pk Dr\, Lewisville\, NC\, 27023\, United States
CATEGORIES:Open Draw
END:VEVENT
BEGIN:VEVENT
DTSTART;VALUE=DATE:20260729
DTEND;VALUE=DATE:20260802
DTSTAMP:20260423T172847
CREATED:20250707T174354Z
LAST-MODIFIED:20260225T195229Z
UID:1964-1785283200-1785628799@cpsa125.org
SUMMARY:CPSA 2026 CONVENTION - PRESCOTT\, AZ
DESCRIPTION:
URL:https://cpsa125.org/event/cpsa-2026-convention-prescott-az/
LOCATION:Prescott Resort and Convention Center\, 1500 East State Route 69\, Prescott\, AZ\, 86305\, United States
CATEGORIES:COLOR PENCIL SOCIETY EVENT
END:VEVENT
BEGIN:VEVENT
DTSTART;VALUE=DATE:20260801
DTEND;VALUE=DATE:20260802
DTSTAMP:20260423T172847
CREATED:20251117T202455Z
LAST-MODIFIED:20251117T202455Z
UID:2509-1785542400-1785628799@cpsa125.org
SUMMARY:DEADLINE FOR FINAL RETREAT PAYMENT
DESCRIPTION:
URL:https://cpsa125.org/event/deadline-for-final-retreat-payment/
END:VEVENT
BEGIN:VEVENT
DTSTART;TZID=UTC:20260803T100000
DTEND;TZID=UTC:20260803T120000
DTSTAMP:20260423T172847
CREATED:20241205T072054Z
LAST-MODIFIED:20241205T072054Z
UID:923-1785751200-1785758400@cpsa125.org
SUMMARY:Open Draw Monday
DESCRIPTION:Join other colored pencil enthusiasts and artists for fellowship while working on your curent colored pencil project
URL:https://cpsa125.org/event/open-draw-monday-82/
LOCATION:Mary Alice Warren Community Center\, 7632 Warren Pk Dr\, Lewisville\, NC\, 27023\, United States
CATEGORIES:Open Draw
END:VEVENT
BEGIN:VEVENT
DTSTART;TZID=America/New_York:20260808T110000
DTEND;TZID=America/New_York:20260808T130000
DTSTAMP:20260423T172847
CREATED:20250806T185025Z
LAST-MODIFIED:20251117T202354Z
UID:2208-1786186800-1786194000@cpsa125.org
SUMMARY:Colored Pencil Explorers - OPEN
DESCRIPTION:
URL:https://cpsa125.org/event/colored-pencil-explorers-19/
LOCATION:Mary Alice Warren Community Center\, 7632 Warren Pk Dr\, Lewisville\, NC\, 27023\, United States
CATEGORIES:Colored Pencil Explorers
END:VEVENT
BEGIN:VEVENT
DTSTART;TZID=UTC:20260810T100000
DTEND;TZID=UTC:20260810T120000
DTSTAMP:20260423T172847
CREATED:20241205T072108Z
LAST-MODIFIED:20241205T072108Z
UID:924-1786356000-1786363200@cpsa125.org
SUMMARY:Open Draw Monday
DESCRIPTION:Join other colored pencil enthusiasts and artists for fellowship while working on your curent colored pencil project
URL:https://cpsa125.org/event/open-draw-monday-83/
LOCATION:Mary Alice Warren Community Center\, 7632 Warren Pk Dr\, Lewisville\, NC\, 27023\, United States
CATEGORIES:Open Draw
END:VEVENT
BEGIN:VEVENT
DTSTART;TZID=UTC:20260817T100000
DTEND;TZID=UTC:20260817T120000
DTSTAMP:20260423T172847
CREATED:20241205T072109Z
LAST-MODIFIED:20241205T072109Z
UID:925-1786960800-1786968000@cpsa125.org
SUMMARY:Open Draw Monday
DESCRIPTION:Join other colored pencil enthusiasts and artists for fellowship while working on your curent colored pencil project
URL:https://cpsa125.org/event/open-draw-monday-84/
LOCATION:Mary Alice Warren Community Center\, 7632 Warren Pk Dr\, Lewisville\, NC\, 27023\, United States
CATEGORIES:Open Draw
END:VEVENT
BEGIN:VEVENT
DTSTART;TZID=America/New_York:20260822T090000
DTEND;TZID=America/New_York:20260822T160000
DTSTAMP:20260423T172847
CREATED:20251117T203231Z
LAST-MODIFIED:20251119T214814Z
UID:2517-1787389200-1787414400@cpsa125.org
SUMMARY:WORKSHOP - Emma Kerridge-Conium "Celestial Circles: Mandalas"
DESCRIPTION:
URL:https://cpsa125.org/event/workshop-emma-kerridge-conium-celestial-circles-mandalas/
LOCATION:Mary Alice Warren Community Center\, 7632 Warren Pk Dr\, Lewisville\, NC\, 27023\, United States
CATEGORIES:Workshops
END:VEVENT
BEGIN:VEVENT
DTSTART;TZID=UTC:20260824T100000
DTEND;TZID=UTC:20260824T120000
DTSTAMP:20260423T172847
CREATED:20241205T072109Z
LAST-MODIFIED:20241205T072109Z
UID:926-1787565600-1787572800@cpsa125.org
SUMMARY:Open Draw Monday
DESCRIPTION:Join other colored pencil enthusiasts and artists for fellowship while working on your curent colored pencil project
URL:https://cpsa125.org/event/open-draw-monday-85/
LOCATION:Mary Alice Warren Community Center\, 7632 Warren Pk Dr\, Lewisville\, NC\, 27023\, United States
CATEGORIES:Open Draw
END:VEVENT
BEGIN:VEVENT
DTSTART;TZID=America/New_York:20260825T150000
DTEND;TZID=America/New_York:20260825T170000
DTSTAMP:20260423T172847
CREATED:20251117T203417Z
LAST-MODIFIED:20251117T203417Z
UID:2519-1787670000-1787677200@cpsa125.org
SUMMARY:DC125 Board Meeting
DESCRIPTION:
URL:https://cpsa125.org/event/dc125-board-meeting-3/
LOCATION:ZOOM MEETING\, United States
CATEGORIES:Board Meeting
END:VEVENT
BEGIN:VEVENT
DTSTART;TZID=UTC:20260831T100000
DTEND;TZID=UTC:20260831T120000
DTSTAMP:20260423T172847
CREATED:20241205T072109Z
LAST-MODIFIED:20241205T072109Z
UID:927-1788170400-1788177600@cpsa125.org
SUMMARY:Open Draw Monday
DESCRIPTION:Join other colored pencil enthusiasts and artists for fellowship while working on your curent colored pencil project
URL:https://cpsa125.org/event/open-draw-monday-86/
LOCATION:Mary Alice Warren Community Center\, 7632 Warren Pk Dr\, Lewisville\, NC\, 27023\, United States
CATEGORIES:Open Draw
END:VEVENT
BEGIN:VEVENT
DTSTART;VALUE=DATE:20260901
DTEND;VALUE=DATE:20260905
DTSTAMP:20260423T172847
CREATED:20250806T185238Z
LAST-MODIFIED:20250806T185238Z
UID:2212-1788220800-1788566399@cpsa125.org
SUMMARY:CPSA125 FALL RETREAT
DESCRIPTION:
URL:https://cpsa125.org/event/cpsa125-fall-retreat/
LOCATION:St Francis Prayer Retreat Center
END:VEVENT
BEGIN:VEVENT
DTSTART;VALUE=DATE:20260907
DTEND;VALUE=DATE:20260908
DTSTAMP:20260423T172847
CREATED:20250806T185107Z
LAST-MODIFIED:20250806T185107Z
UID:2210-1788739200-1788825599@cpsa125.org
SUMMARY:LABOR DAY
DESCRIPTION:
URL:https://cpsa125.org/event/labor-day/
END:VEVENT
BEGIN:VEVENT
DTSTART;TZID=UTC:20260907T100000
DTEND;TZID=UTC:20260907T120000
DTSTAMP:20260423T172847
CREATED:20241205T072109Z
LAST-MODIFIED:20241205T072109Z
UID:928-1788775200-1788782400@cpsa125.org
SUMMARY:HOLIDAY - NO Open Draw Monday
DESCRIPTION:Join other colored pencil enthusiasts and artists for fellowship while working on your curent colored pencil project
URL:https://cpsa125.org/event/holiday-no-open-draw-monday-4/
LOCATION:Mary Alice Warren Community Center\, 7632 Warren Pk Dr\, Lewisville\, NC\, 27023\, United States
CATEGORIES:Open Draw
END:VEVENT
BEGIN:VEVENT
DTSTART;TZID=America/New_York:20260912T110000
DTEND;TZID=America/New_York:20260912T130000
DTSTAMP:20260423T172847
CREATED:20250806T185337Z
LAST-MODIFIED:20251119T195757Z
UID:2214-1789210800-1789218000@cpsa125.org
SUMMARY:Colored Pencil Explorers - Light Program Open Draw
DESCRIPTION:
URL:https://cpsa125.org/event/colored-pencil-explorers-20/
LOCATION:Mary Alice Warren Community Center\, 7632 Warren Pk Dr\, Lewisville\, NC\, 27023\, United States
CATEGORIES:Colored Pencil Explorers
END:VEVENT
BEGIN:VEVENT
DTSTART;TZID=UTC:20260914T100000
DTEND;TZID=UTC:20260914T120000
DTSTAMP:20260423T172847
CREATED:20241205T072123Z
LAST-MODIFIED:20241205T072123Z
UID:929-1789380000-1789387200@cpsa125.org
SUMMARY:Open Draw Monday
DESCRIPTION:Join other colored pencil enthusiasts and artists for fellowship while working on your curent colored pencil project
URL:https://cpsa125.org/event/open-draw-monday-87/
LOCATION:Mary Alice Warren Community Center\, 7632 Warren Pk Dr\, Lewisville\, NC\, 27023\, United States
CATEGORIES:Open Draw
END:VEVENT
BEGIN:VEVENT
DTSTART;VALUE=DATE:20260915
DTEND;VALUE=DATE:20260916
DTSTAMP:20260423T172847
CREATED:20251117T202539Z
LAST-MODIFIED:20260303T152805Z
UID:2511-1789430400-1789516799@cpsa125.org
SUMMARY:NEWSLETTER DEADLINE
DESCRIPTION:
URL:https://cpsa125.org/event/newsletter-deadline-3/
END:VEVENT
BEGIN:VEVENT
DTSTART;TZID=UTC:20260921T100000
DTEND;TZID=UTC:20260921T120000
DTSTAMP:20260423T172847
CREATED:20241205T072123Z
LAST-MODIFIED:20241205T072123Z
UID:930-1789984800-1789992000@cpsa125.org
SUMMARY:Open Draw Monday
DESCRIPTION:Join other colored pencil enthusiasts and artists for fellowship while working on your curent colored pencil project
URL:https://cpsa125.org/event/open-draw-monday-88/
LOCATION:Mary Alice Warren Community Center\, 7632 Warren Pk Dr\, Lewisville\, NC\, 27023\, United States
CATEGORIES:Open Draw
END:VEVENT
BEGIN:VEVENT
DTSTART;TZID=UTC:20260928T100000
DTEND;TZID=UTC:20260928T120000
DTSTAMP:20260423T172847
CREATED:20241205T072123Z
LAST-MODIFIED:20241205T072123Z
UID:931-1790589600-1790596800@cpsa125.org
SUMMARY:Open Draw Monday
DESCRIPTION:Join other colored pencil enthusiasts and artists for fellowship while working on your curent colored pencil project
URL:https://cpsa125.org/event/open-draw-monday-89/
LOCATION:Mary Alice Warren Community Center\, 7632 Warren Pk Dr\, Lewisville\, NC\, 27023\, United States
CATEGORIES:Open Draw
END:VEVENT
BEGIN:VEVENT
DTSTART;VALUE=DATE:20260930
DTEND;VALUE=DATE:20261001
DTSTAMP:20260423T172847
CREATED:20251119T210859Z
LAST-MODIFIED:20260303T152701Z
UID:2556-1790726400-1790812799@cpsa125.org
SUMMARY:NEWSLETTER OUT
DESCRIPTION:
URL:https://cpsa125.org/event/newsletter-out-2/
END:VEVENT
BEGIN:VEVENT
DTSTART;TZID=UTC:20261005T100000
DTEND;TZID=UTC:20261005T120000
DTSTAMP:20260423T172847
CREATED:20241205T072124Z
LAST-MODIFIED:20241205T072124Z
UID:932-1791194400-1791201600@cpsa125.org
SUMMARY:Open Draw Monday
DESCRIPTION:Join other colored pencil enthusiasts and artists for fellowship while working on your curent colored pencil project
URL:https://cpsa125.org/event/open-draw-monday-90/
LOCATION:Mary Alice Warren Community Center\, 7632 Warren Pk Dr\, Lewisville\, NC\, 27023\, United States
CATEGORIES:Open Draw
END:VEVENT
BEGIN:VEVENT
DTSTART;TZID=America/New_York:20261010T110000
DTEND;TZID=America/New_York:20261010T130000
DTSTAMP:20260423T172847
CREATED:20251119T204456Z
LAST-MODIFIED:20251119T204456Z
UID:2530-1791630000-1791637200@cpsa125.org
SUMMARY:Colored Pencil Explorers - Open
DESCRIPTION:
URL:https://cpsa125.org/event/colored-pencil-explorers-open/
LOCATION:Mary Alice Warren Community Center\, 7632 Warren Pk Dr\, Lewisville\, NC\, 27023\, United States
CATEGORIES:Colored Pencil Explorers
END:VEVENT
BEGIN:VEVENT
DTSTART;TZID=America/New_York:20261010T131500
DTEND;TZID=America/New_York:20261010T143000
DTSTAMP:20260423T172847
CREATED:20251119T204701Z
LAST-MODIFIED:20251119T204701Z
UID:2532-1791638100-1791642600@cpsa125.org
SUMMARY:DC125 CHAPTER MEETING
DESCRIPTION:Vote on NEW Board Members
URL:https://cpsa125.org/event/dc125-chapter-meeting-4/
LOCATION:ZOOM MEETING\, United States
CATEGORIES:District Chapter Members Only
END:VEVENT
BEGIN:VEVENT
DTSTART;VALUE=DATE:20261012
DTEND;VALUE=DATE:20261013
DTSTAMP:20260423T172847
CREATED:20251119T203713Z
LAST-MODIFIED:20251119T203713Z
UID:2522-1791763200-1791849599@cpsa125.org
SUMMARY:Columbus Day
DESCRIPTION:
URL:https://cpsa125.org/event/columbus-day/
END:VEVENT
BEGIN:VEVENT
DTSTART;TZID=UTC:20261012T100000
DTEND;TZID=UTC:20261012T120000
DTSTAMP:20260423T172847
CREATED:20241205T072124Z
LAST-MODIFIED:20241205T072124Z
UID:933-1791799200-1791806400@cpsa125.org
SUMMARY:Open Draw Monday
DESCRIPTION:Join other colored pencil enthusiasts and artists for fellowship while working on your curent colored pencil project
URL:https://cpsa125.org/event/open-draw-monday-91/
LOCATION:Mary Alice Warren Community Center\, 7632 Warren Pk Dr\, Lewisville\, NC\, 27023\, United States
CATEGORIES:Open Draw
END:VEVENT
BEGIN:VEVENT
DTSTART;TZID=America/New_York:20261016T173000
DTEND;TZID=America/New_York:20261016T200000
DTSTAMP:20260423T172847
CREATED:20251119T205005Z
LAST-MODIFIED:20251119T213754Z
UID:2534-1792171800-1792180800@cpsa125.org
SUMMARY:WORKSHOP - John Middick "Moments of Wonder - Mastering the Child Portrait"
DESCRIPTION:
URL:https://cpsa125.org/event/workshop-john-middick-moments-of-wonder-mastering-the-child-portrait/
LOCATION:Mary Alice Warren Community Center\, 7632 Warren Pk Dr\, Lewisville\, NC\, 27023\, United States
CATEGORIES:Workshops
END:VEVENT
END:VCALENDAR