BEGIN:VCALENDAR
VERSION:2.0
PRODID:-//CPSA DC 125 - ECPv6.15.20//NONSGML v1.0//EN
CALSCALE:GREGORIAN
METHOD:PUBLISH
X-WR-CALNAME:CPSA DC 125
X-ORIGINAL-URL:https://cpsa125.org
X-WR-CALDESC:Events for CPSA DC 125
REFRESH-INTERVAL;VALUE=DURATION:PT1H
X-Robots-Tag:noindex
X-PUBLISHED-TTL:PT1H
BEGIN:VTIMEZONE
TZID:UTC
BEGIN:STANDARD
TZOFFSETFROM:+0000
TZOFFSETTO:+0000
TZNAME:UTC
DTSTART:20240101T000000
END:STANDARD
END:VTIMEZONE
BEGIN:VTIMEZONE
TZID:America/New_York
BEGIN:DAYLIGHT
TZOFFSETFROM:-0500
TZOFFSETTO:-0400
TZNAME:EDT
DTSTART:20240310T070000
END:DAYLIGHT
BEGIN:STANDARD
TZOFFSETFROM:-0400
TZOFFSETTO:-0500
TZNAME:EST
DTSTART:20241103T060000
END:STANDARD
BEGIN:DAYLIGHT
TZOFFSETFROM:-0500
TZOFFSETTO:-0400
TZNAME:EDT
DTSTART:20250309T070000
END:DAYLIGHT
BEGIN:STANDARD
TZOFFSETFROM:-0400
TZOFFSETTO:-0500
TZNAME:EST
DTSTART:20251102T060000
END:STANDARD
BEGIN:DAYLIGHT
TZOFFSETFROM:-0500
TZOFFSETTO:-0400
TZNAME:EDT
DTSTART:20260308T070000
END:DAYLIGHT
BEGIN:STANDARD
TZOFFSETFROM:-0400
TZOFFSETTO:-0500
TZNAME:EST
DTSTART:20261101T060000
END:STANDARD
END:VTIMEZONE
BEGIN:VEVENT
DTSTART;TZID=UTC:20250623T100000
DTEND;TZID=UTC:20250623T120000
DTSTAMP:20260424T003301
CREATED:20241205T070906Z
LAST-MODIFIED:20241205T070906Z
UID:867-1750672800-1750680000@cpsa125.org
SUMMARY:Open Draw Monday
DESCRIPTION:Join other colored pencil enthusiasts and artists for fellowship while working on your curent colored pencil project
URL:https://cpsa125.org/event/open-draw-monday-28/
LOCATION:Mary Alice Warren Community Center\, 7632 Warren Pk Dr\, Lewisville\, NC\, 27023\, United States
CATEGORIES:Open Draw
END:VEVENT
BEGIN:VEVENT
DTSTART;TZID=America/New_York:20250621T090000
DTEND;TZID=America/New_York:20250621T160000
DTSTAMP:20260424T003301
CREATED:20250101T054503Z
LAST-MODIFIED:20250101T064415Z
UID:1324-1750496400-1750521600@cpsa125.org
SUMMARY:Workshop - "Basic Botanicals: Lily Magnolia" with Amy Lindenberger
DESCRIPTION:   For more information and to register\, click HERE
URL:https://cpsa125.org/event/workshop-basic-botanicals-lily-magnolia-with-amy-lindenberger/
LOCATION:Mary Alice Warren Community Center\, 7632 Warren Pk Dr\, Lewisville\, NC\, 27023\, United States
END:VEVENT
BEGIN:VEVENT
DTSTART;TZID=UTC:20250616T100000
DTEND;TZID=UTC:20250616T120000
DTSTAMP:20260424T003301
CREATED:20241205T070906Z
LAST-MODIFIED:20241205T070906Z
UID:866-1750068000-1750075200@cpsa125.org
SUMMARY:Open Draw Monday
DESCRIPTION:Join other colored pencil enthusiasts and artists for fellowship while working on your curent colored pencil project
URL:https://cpsa125.org/event/open-draw-monday-27/
LOCATION:Mary Alice Warren Community Center\, 7632 Warren Pk Dr\, Lewisville\, NC\, 27023\, United States
CATEGORIES:Open Draw
END:VEVENT
BEGIN:VEVENT
DTSTART;TZID=UTC:20250614T110000
DTEND;TZID=UTC:20250614T130000
DTSTAMP:20260424T003301
CREATED:20241205T072148Z
LAST-MODIFIED:20241205T072148Z
UID:948-1749898800-1749906000@cpsa125.org
SUMMARY:Colored Pencil Explorers
DESCRIPTION:Monthly meeting to explore and learn all that colored pencils have to offer.
URL:https://cpsa125.org/event/colored-pencil-explorers-6/
LOCATION:Mary Alice Warren Community Center\, 7632 Warren Pk Dr\, Lewisville\, NC\, 27023\, United States
CATEGORIES:Colored Pencil Explorers
END:VEVENT
BEGIN:VEVENT
DTSTART;TZID=UTC:20250609T100000
DTEND;TZID=UTC:20250609T120000
DTSTAMP:20260424T003301
CREATED:20241205T070906Z
LAST-MODIFIED:20241205T070906Z
UID:865-1749463200-1749470400@cpsa125.org
SUMMARY:Open Draw Monday
DESCRIPTION:Join other colored pencil enthusiasts and artists for fellowship while working on your curent colored pencil project
URL:https://cpsa125.org/event/open-draw-monday-26/
LOCATION:Mary Alice Warren Community Center\, 7632 Warren Pk Dr\, Lewisville\, NC\, 27023\, United States
CATEGORIES:Open Draw
END:VEVENT
BEGIN:VEVENT
DTSTART;TZID=UTC:20250602T100000
DTEND;TZID=UTC:20250602T120000
DTSTAMP:20260424T003301
CREATED:20241205T070906Z
LAST-MODIFIED:20241205T070906Z
UID:864-1748858400-1748865600@cpsa125.org
SUMMARY:Open Draw Monday
DESCRIPTION:Join other colored pencil enthusiasts and artists for fellowship while working on your curent colored pencil project
URL:https://cpsa125.org/event/open-draw-monday-25/
LOCATION:Mary Alice Warren Community Center\, 7632 Warren Pk Dr\, Lewisville\, NC\, 27023\, United States
CATEGORIES:Open Draw
END:VEVENT
BEGIN:VEVENT
DTSTART;TZID=UTC:20250526T100000
DTEND;TZID=UTC:20250526T120000
DTSTAMP:20260424T003302
CREATED:20241205T070705Z
LAST-MODIFIED:20241205T070705Z
UID:863-1748253600-1748260800@cpsa125.org
SUMMARY:HOLIDAY - NO Open Draw Monday
DESCRIPTION:Join other colored pencil enthusiasts and artists for fellowship while working on your curent colored pencil project
URL:https://cpsa125.org/event/holiday-no-open-draw-monday/
LOCATION:Mary Alice Warren Community Center\, 7632 Warren Pk Dr\, Lewisville\, NC\, 27023\, United States
CATEGORIES:Open Draw
END:VEVENT
BEGIN:VEVENT
DTSTART;TZID=UTC:20250519T100000
DTEND;TZID=UTC:20250519T120000
DTSTAMP:20260424T003302
CREATED:20241205T070705Z
LAST-MODIFIED:20241205T070705Z
UID:862-1747648800-1747656000@cpsa125.org
SUMMARY:Open Draw Monday
DESCRIPTION:Join other colored pencil enthusiasts and artists for fellowship while working on your curent colored pencil project
URL:https://cpsa125.org/event/open-draw-monday-24/
LOCATION:Mary Alice Warren Community Center\, 7632 Warren Pk Dr\, Lewisville\, NC\, 27023\, United States
CATEGORIES:Open Draw
END:VEVENT
BEGIN:VEVENT
DTSTART;TZID=America/New_York:20250517T130000
DTEND;TZID=America/New_York:20250517T170000
DTSTAMP:20260424T003302
CREATED:20241215T021639Z
LAST-MODIFIED:20250101T051930Z
UID:1182-1747486800-1747501200@cpsa125.org
SUMMARY:Workshop: "Cloudscape" on Drafting Film with Barbara Dahlstedt
DESCRIPTION:For more information and to register\, click HERE
URL:https://cpsa125.org/event/workshop-cloudscape-on-drafting-film-with-barbara-dahlstedt/
LOCATION:Mary Alice Warren Community Center\, 7632 Warren Pk Dr\, Lewisville\, NC\, 27023\, United States
CATEGORIES:Workshops
ORGANIZER;CN="CPSA DC 125":MAILTO:President@cpsa125.org
END:VEVENT
BEGIN:VEVENT
DTSTART;TZID=UTC:20250512T100000
DTEND;TZID=UTC:20250512T120000
DTSTAMP:20260424T003302
CREATED:20241205T070705Z
LAST-MODIFIED:20241205T070705Z
UID:861-1747044000-1747051200@cpsa125.org
SUMMARY:Open Draw Monday
DESCRIPTION:Join other colored pencil enthusiasts and artists for fellowship while working on your curent colored pencil project
URL:https://cpsa125.org/event/open-draw-monday-23/
LOCATION:Mary Alice Warren Community Center\, 7632 Warren Pk Dr\, Lewisville\, NC\, 27023\, United States
CATEGORIES:Open Draw
END:VEVENT
BEGIN:VEVENT
DTSTART;TZID=UTC:20250510T110000
DTEND;TZID=UTC:20250510T130000
DTSTAMP:20260424T003302
CREATED:20241205T072148Z
LAST-MODIFIED:20241205T072148Z
UID:947-1746874800-1746882000@cpsa125.org
SUMMARY:Colored Pencil Explorers
DESCRIPTION:Monthly meeting to explore and learn all that colored pencils have to offer.
URL:https://cpsa125.org/event/colored-pencil-explorers-5/
LOCATION:Mary Alice Warren Community Center\, 7632 Warren Pk Dr\, Lewisville\, NC\, 27023\, United States
CATEGORIES:Colored Pencil Explorers
END:VEVENT
BEGIN:VEVENT
DTSTART;TZID=UTC:20250505T100000
DTEND;TZID=UTC:20250505T120000
DTSTAMP:20260424T003302
CREATED:20241205T070705Z
LAST-MODIFIED:20241205T070705Z
UID:860-1746439200-1746446400@cpsa125.org
SUMMARY:Open Draw Monday
DESCRIPTION:Join other colored pencil enthusiasts and artists for fellowship while working on your curent colored pencil project
URL:https://cpsa125.org/event/open-draw-monday-22/
LOCATION:Mary Alice Warren Community Center\, 7632 Warren Pk Dr\, Lewisville\, NC\, 27023\, United States
CATEGORIES:Open Draw
END:VEVENT
BEGIN:VEVENT
DTSTART;TZID=UTC:20250428T100000
DTEND;TZID=UTC:20250428T120000
DTSTAMP:20260424T003302
CREATED:20241205T070704Z
LAST-MODIFIED:20241205T070704Z
UID:859-1745834400-1745841600@cpsa125.org
SUMMARY:Open Draw Monday
DESCRIPTION:Join other colored pencil enthusiasts and artists for fellowship while working on your curent colored pencil project
URL:https://cpsa125.org/event/open-draw-monday-21/
LOCATION:Mary Alice Warren Community Center\, 7632 Warren Pk Dr\, Lewisville\, NC\, 27023\, United States
CATEGORIES:Open Draw
END:VEVENT
BEGIN:VEVENT
DTSTART;TZID=America/New_York:20250426T090000
DTEND;TZID=America/New_York:20250426T160000
DTSTAMP:20260424T003302
CREATED:20250101T044422Z
LAST-MODIFIED:20250101T053554Z
UID:1315-1745658000-1745683200@cpsa125.org
SUMMARY:"Precision Portraits in Colored Pencil" with John Middick
DESCRIPTION:    For more information and to register\, click HERE
URL:https://cpsa125.org/event/precision-portraits-in-colored-pencil-with-john-middick/
LOCATION:Mary Alice Warren Community Center\, 7632 Warren Pk Dr\, Lewisville\, NC\, 27023\, United States
ORGANIZER;CN="CPSA DC 125":MAILTO:President@cpsa125.org
END:VEVENT
BEGIN:VEVENT
DTSTART;TZID=America/New_York:20250425T173000
DTEND;TZID=America/New_York:20250425T203000
DTSTAMP:20260424T003302
CREATED:20241213T154031Z
LAST-MODIFIED:20250101T051823Z
UID:1109-1745602200-1745613000@cpsa125.org
SUMMARY:Workshop - "Fundamentals of Portraits in Colored Pencil" with John Middick
DESCRIPTION:For more information and to register\, click HERE
URL:https://cpsa125.org/event/workshop-fundamentals-of-portraits-in-colored-pencil-with-john-middick/
LOCATION:Mary Alice Warren Community Center\, 7632 Warren Pk Dr\, Lewisville\, NC\, 27023\, United States
CATEGORIES:Workshops
ORGANIZER;CN="CPSA DC 125":MAILTO:President@cpsa125.org
END:VEVENT
BEGIN:VEVENT
DTSTART;TZID=UTC:20250421T100000
DTEND;TZID=UTC:20250421T120000
DTSTAMP:20260424T003302
CREATED:20241205T070504Z
LAST-MODIFIED:20241205T070504Z
UID:858-1745229600-1745236800@cpsa125.org
SUMMARY:Open Draw Monday
DESCRIPTION:Join other colored pencil enthusiasts and artists for fellowship while working on your curent colored pencil project
URL:https://cpsa125.org/event/open-draw-monday-20/
LOCATION:Mary Alice Warren Community Center\, 7632 Warren Pk Dr\, Lewisville\, NC\, 27023\, United States
CATEGORIES:Open Draw
END:VEVENT
BEGIN:VEVENT
DTSTART;TZID=UTC:20250414T100000
DTEND;TZID=UTC:20250414T120000
DTSTAMP:20260424T003302
CREATED:20241205T070504Z
LAST-MODIFIED:20241205T070504Z
UID:857-1744624800-1744632000@cpsa125.org
SUMMARY:Open Draw Monday
DESCRIPTION:Join other colored pencil enthusiasts and artists for fellowship while working on your curent colored pencil project
URL:https://cpsa125.org/event/open-draw-monday-19/
LOCATION:Mary Alice Warren Community Center\, 7632 Warren Pk Dr\, Lewisville\, NC\, 27023\, United States
CATEGORIES:Open Draw
END:VEVENT
BEGIN:VEVENT
DTSTART;TZID=UTC:20250412T110000
DTEND;TZID=UTC:20250412T130000
DTSTAMP:20260424T003302
CREATED:20241205T072148Z
LAST-MODIFIED:20241205T072148Z
UID:946-1744455600-1744462800@cpsa125.org
SUMMARY:Colored Pencil Explorers
DESCRIPTION:Monthly meeting to explore and learn all that colored pencils have to offer.
URL:https://cpsa125.org/event/colored-pencil-explorers-4/
LOCATION:Mary Alice Warren Community Center\, 7632 Warren Pk Dr\, Lewisville\, NC\, 27023\, United States
CATEGORIES:Colored Pencil Explorers
END:VEVENT
BEGIN:VEVENT
DTSTART;TZID=UTC:20250407T100000
DTEND;TZID=UTC:20250407T120000
DTSTAMP:20260424T003302
CREATED:20241205T070503Z
LAST-MODIFIED:20241205T070503Z
UID:856-1744020000-1744027200@cpsa125.org
SUMMARY:Open Draw Monday
DESCRIPTION:Join other colored pencil enthusiasts and artists for fellowship while working on your curent colored pencil project
URL:https://cpsa125.org/event/open-draw-monday-18/
LOCATION:Mary Alice Warren Community Center\, 7632 Warren Pk Dr\, Lewisville\, NC\, 27023\, United States
CATEGORIES:Open Draw
END:VEVENT
BEGIN:VEVENT
DTSTART;TZID=UTC:20250331T100000
DTEND;TZID=UTC:20250331T120000
DTSTAMP:20260424T003302
CREATED:20241205T070503Z
LAST-MODIFIED:20241205T070503Z
UID:855-1743415200-1743422400@cpsa125.org
SUMMARY:Open Draw Monday
DESCRIPTION:Join other colored pencil enthusiasts and artists for fellowship while working on your curent colored pencil project
URL:https://cpsa125.org/event/open-draw-monday-17/
LOCATION:Mary Alice Warren Community Center\, 7632 Warren Pk Dr\, Lewisville\, NC\, 27023\, United States
CATEGORIES:Open Draw
END:VEVENT
BEGIN:VEVENT
DTSTART;TZID=UTC:20250324T100000
DTEND;TZID=UTC:20250324T120000
DTSTAMP:20260424T003302
CREATED:20241205T070503Z
LAST-MODIFIED:20241205T070503Z
UID:854-1742810400-1742817600@cpsa125.org
SUMMARY:Open Draw Monday
DESCRIPTION:Join other colored pencil enthusiasts and artists for fellowship while working on your curent colored pencil project
URL:https://cpsa125.org/event/open-draw-monday-16/
LOCATION:Mary Alice Warren Community Center\, 7632 Warren Pk Dr\, Lewisville\, NC\, 27023\, United States
CATEGORIES:Open Draw
END:VEVENT
BEGIN:VEVENT
DTSTART;TZID=UTC:20250317T100000
DTEND;TZID=UTC:20250317T120000
DTSTAMP:20260424T003302
CREATED:20241205T070448Z
LAST-MODIFIED:20241205T070448Z
UID:853-1742205600-1742212800@cpsa125.org
SUMMARY:Open Draw Monday
DESCRIPTION:Join other colored pencil enthusiasts and artists for fellowship while working on your curent colored pencil project
URL:https://cpsa125.org/event/open-draw-monday-15/
LOCATION:Mary Alice Warren Community Center\, 7632 Warren Pk Dr\, Lewisville\, NC\, 27023\, United States
CATEGORIES:Open Draw
END:VEVENT
BEGIN:VEVENT
DTSTART;TZID=UTC:20250310T100000
DTEND;TZID=UTC:20250310T120000
DTSTAMP:20260424T003302
CREATED:20241205T070448Z
LAST-MODIFIED:20241205T070448Z
UID:852-1741600800-1741608000@cpsa125.org
SUMMARY:Open Draw Monday
DESCRIPTION:Join other colored pencil enthusiasts and artists for fellowship while working on your curent colored pencil project
URL:https://cpsa125.org/event/open-draw-monday-14/
LOCATION:Mary Alice Warren Community Center\, 7632 Warren Pk Dr\, Lewisville\, NC\, 27023\, United States
CATEGORIES:Open Draw
END:VEVENT
BEGIN:VEVENT
DTSTART;TZID=UTC:20250308T110000
DTEND;TZID=UTC:20250308T130000
DTSTAMP:20260424T003302
CREATED:20241205T072148Z
LAST-MODIFIED:20251107T134112Z
UID:945-1741431600-1741438800@cpsa125.org
SUMMARY:Colored Pencil Explorers
DESCRIPTION:Monthly meeting to explore and learn all that colored pencils have to offer.
URL:https://cpsa125.org/event/colored-pencil-explorers-3/
LOCATION:Mary Alice Warren Community Center\, 7632 Warren Pk Dr\, Lewisville\, NC\, 27023\, United States
CATEGORIES:Colored Pencil Explorers
END:VEVENT
BEGIN:VEVENT
DTSTART;TZID=UTC:20250303T100000
DTEND;TZID=UTC:20250303T120000
DTSTAMP:20260424T003302
CREATED:20241205T070448Z
LAST-MODIFIED:20241205T070448Z
UID:851-1740996000-1741003200@cpsa125.org
SUMMARY:Open Draw Monday
DESCRIPTION:Join other colored pencil enthusiasts and artists for fellowship while working on your curent colored pencil project
URL:https://cpsa125.org/event/open-draw-monday-13/
LOCATION:Mary Alice Warren Community Center\, 7632 Warren Pk Dr\, Lewisville\, NC\, 27023\, United States
CATEGORIES:Open Draw
END:VEVENT
BEGIN:VEVENT
DTSTART;TZID=UTC:20250224T100000
DTEND;TZID=UTC:20250224T120000
DTSTAMP:20260424T003302
CREATED:20241205T070448Z
LAST-MODIFIED:20241205T070448Z
UID:850-1740391200-1740398400@cpsa125.org
SUMMARY:Open Draw Monday
DESCRIPTION:Join other colored pencil enthusiasts and artists for fellowship while working on your curent colored pencil project
URL:https://cpsa125.org/event/open-draw-monday-12/
LOCATION:Mary Alice Warren Community Center\, 7632 Warren Pk Dr\, Lewisville\, NC\, 27023\, United States
CATEGORIES:Open Draw
END:VEVENT
BEGIN:VEVENT
DTSTART;TZID=UTC:20250217T100000
DTEND;TZID=UTC:20250217T120000
DTSTAMP:20260424T003302
CREATED:20241205T070447Z
LAST-MODIFIED:20241205T070447Z
UID:849-1739786400-1739793600@cpsa125.org
SUMMARY:Open Draw Monday
DESCRIPTION:Join other colored pencil enthusiasts and artists for fellowship while working on your curent colored pencil project
URL:https://cpsa125.org/event/open-draw-monday-11/
LOCATION:Mary Alice Warren Community Center\, 7632 Warren Pk Dr\, Lewisville\, NC\, 27023\, United States
CATEGORIES:Open Draw
END:VEVENT
BEGIN:VEVENT
DTSTART;TZID=UTC:20250210T100000
DTEND;TZID=UTC:20250210T120000
DTSTAMP:20260424T003302
CREATED:20241205T070433Z
LAST-MODIFIED:20241205T070433Z
UID:848-1739181600-1739188800@cpsa125.org
SUMMARY:Open Draw Monday
DESCRIPTION:Join other colored pencil enthusiasts and artists for fellowship while working on your curent colored pencil project
URL:https://cpsa125.org/event/open-draw-monday-10/
LOCATION:Mary Alice Warren Community Center\, 7632 Warren Pk Dr\, Lewisville\, NC\, 27023\, United States
CATEGORIES:Open Draw
END:VEVENT
BEGIN:VEVENT
DTSTART;TZID=UTC:20250208T110000
DTEND;TZID=UTC:20250208T130000
DTSTAMP:20260424T003302
CREATED:20241205T072148Z
LAST-MODIFIED:20241205T072148Z
UID:944-1739012400-1739019600@cpsa125.org
SUMMARY:Colored Pencil Explorers
DESCRIPTION:Monthly meeting to explore and learn all that colored pencils have to offer.
URL:https://cpsa125.org/event/colored-pencil-explorers-2/
LOCATION:Mary Alice Warren Community Center\, 7632 Warren Pk Dr\, Lewisville\, NC\, 27023\, United States
CATEGORIES:Colored Pencil Explorers
END:VEVENT
BEGIN:VEVENT
DTSTART;TZID=UTC:20250203T100000
DTEND;TZID=UTC:20250203T120000
DTSTAMP:20260424T003302
CREATED:20241205T070432Z
LAST-MODIFIED:20241205T070432Z
UID:847-1738576800-1738584000@cpsa125.org
SUMMARY:Open Draw Monday
DESCRIPTION:Join other colored pencil enthusiasts and artists for fellowship while working on your curent colored pencil project
URL:https://cpsa125.org/event/open-draw-monday-9/
LOCATION:Mary Alice Warren Community Center\, 7632 Warren Pk Dr\, Lewisville\, NC\, 27023\, United States
CATEGORIES:Open Draw
END:VEVENT
END:VCALENDAR