BEGIN:VCALENDAR
VERSION:2.0
PRODID:-//CPSA DC 125 - ECPv6.15.20//NONSGML v1.0//EN
CALSCALE:GREGORIAN
METHOD:PUBLISH
X-WR-CALNAME:CPSA DC 125
X-ORIGINAL-URL:https://cpsa125.org
X-WR-CALDESC:Events for CPSA DC 125
REFRESH-INTERVAL;VALUE=DURATION:PT1H
X-Robots-Tag:noindex
X-PUBLISHED-TTL:PT1H
BEGIN:VTIMEZONE
TZID:UTC
BEGIN:STANDARD
TZOFFSETFROM:+0000
TZOFFSETTO:+0000
TZNAME:UTC
DTSTART:20250101T000000
END:STANDARD
END:VTIMEZONE
BEGIN:VTIMEZONE
TZID:America/New_York
BEGIN:DAYLIGHT
TZOFFSETFROM:-0500
TZOFFSETTO:-0400
TZNAME:EDT
DTSTART:20250309T070000
END:DAYLIGHT
BEGIN:STANDARD
TZOFFSETFROM:-0400
TZOFFSETTO:-0500
TZNAME:EST
DTSTART:20251102T060000
END:STANDARD
BEGIN:DAYLIGHT
TZOFFSETFROM:-0500
TZOFFSETTO:-0400
TZNAME:EDT
DTSTART:20260308T070000
END:DAYLIGHT
BEGIN:STANDARD
TZOFFSETFROM:-0400
TZOFFSETTO:-0500
TZNAME:EST
DTSTART:20261101T060000
END:STANDARD
BEGIN:DAYLIGHT
TZOFFSETFROM:-0500
TZOFFSETTO:-0400
TZNAME:EDT
DTSTART:20270314T070000
END:DAYLIGHT
BEGIN:STANDARD
TZOFFSETFROM:-0400
TZOFFSETTO:-0500
TZNAME:EST
DTSTART:20271107T060000
END:STANDARD
END:VTIMEZONE
BEGIN:VEVENT
DTSTART;TZID=UTC:20260302T100000
DTEND;TZID=UTC:20260302T120000
DTSTAMP:20260423T122527
CREATED:20241205T071953Z
LAST-MODIFIED:20241205T071953Z
UID:901-1772445600-1772452800@cpsa125.org
SUMMARY:Open Draw Monday
DESCRIPTION:Join other colored pencil enthusiasts and artists for fellowship while working on your curent colored pencil project
URL:https://cpsa125.org/event/open-draw-monday-61/
LOCATION:Mary Alice Warren Community Center\, 7632 Warren Pk Dr\, Lewisville\, NC\, 27023\, United States
CATEGORIES:Open Draw
END:VEVENT
BEGIN:VEVENT
DTSTART;TZID=America/New_York:20260303T154500
DTEND;TZID=America/New_York:20260303T170000
DTSTAMP:20260423T122527
CREATED:20251117T190216Z
LAST-MODIFIED:20260225T194054Z
UID:2474-1772552700-1772557200@cpsa125.org
SUMMARY:DC125 BOARD MEETING
DESCRIPTION:
URL:https://cpsa125.org/event/dc125-board-meeting/
LOCATION:ZOOM MEETING\, United States
CATEGORIES:Board Meeting
END:VEVENT
BEGIN:VEVENT
DTSTART;TZID=America/New_York:20260306T090000
DTEND;TZID=America/New_York:20260306T160000
DTSTAMP:20260423T122527
CREATED:20251117T190535Z
LAST-MODIFIED:20251119T213558Z
UID:2477-1772787600-1772812800@cpsa125.org
SUMMARY:WORKSHOP - Mark Menendez "Colorful Whites"
DESCRIPTION:
URL:https://cpsa125.org/event/workshop-mark-menendez-colorful-whites/
LOCATION:Mary Alice Warren Community Center\, 7632 Warren Pk Dr\, Lewisville\, NC\, 27023\, United States
CATEGORIES:Workshops
ORGANIZER;CN="CPSA DC 125":MAILTO:President@cpsa125.org
END:VEVENT
BEGIN:VEVENT
DTSTART;TZID=UTC:20260309T100000
DTEND;TZID=UTC:20260309T120000
DTSTAMP:20260423T122527
CREATED:20241205T071953Z
LAST-MODIFIED:20241205T071953Z
UID:902-1773050400-1773057600@cpsa125.org
SUMMARY:Open Draw Monday
DESCRIPTION:Join other colored pencil enthusiasts and artists for fellowship while working on your curent colored pencil project
URL:https://cpsa125.org/event/open-draw-monday-62/
LOCATION:Mary Alice Warren Community Center\, 7632 Warren Pk Dr\, Lewisville\, NC\, 27023\, United States
CATEGORIES:Open Draw
END:VEVENT
BEGIN:VEVENT
DTSTART;TZID=America/New_York:20260314T110000
DTEND;TZID=America/New_York:20260314T130000
DTSTAMP:20260423T122527
CREATED:20250806T183403Z
LAST-MODIFIED:20251117T193723Z
UID:2181-1773486000-1773493200@cpsa125.org
SUMMARY:Colored Pencil Explorers - Inktense on Cloth
DESCRIPTION:NOTE: NO ZOOM
URL:https://cpsa125.org/event/colored-pencil-explorers-14/
LOCATION:Mary Alice Warren Community Center\, 7632 Warren Pk Dr\, Lewisville\, NC\, 27023\, United States
CATEGORIES:Colored Pencil Explorers
END:VEVENT
BEGIN:VEVENT
DTSTART;TZID=America/New_York:20260314T131500
DTEND;TZID=America/New_York:20260314T143000
DTSTAMP:20260423T122527
CREATED:20251117T190743Z
LAST-MODIFIED:20251117T190743Z
UID:2479-1773494100-1773498600@cpsa125.org
SUMMARY:DC125 CHAPTER MEETING
DESCRIPTION:
URL:https://cpsa125.org/event/dc125-chapter-meeting-2/
LOCATION:Mary Alice Warren Community Center\, 7632 Warren Pk Dr\, Lewisville\, NC\, 27023\, United States
CATEGORIES:District Chapter Members Only
END:VEVENT
BEGIN:VEVENT
DTSTART;VALUE=DATE:20260315
DTEND;VALUE=DATE:20260316
DTSTAMP:20260423T122527
CREATED:20251117T185043Z
LAST-MODIFIED:20260225T193806Z
UID:2468-1773532800-1773619199@cpsa125.org
SUMMARY:Newsletter Deadline
DESCRIPTION:
URL:https://cpsa125.org/event/newsletter-input-deadline/
END:VEVENT
BEGIN:VEVENT
DTSTART;TZID=UTC:20260316T100000
DTEND;TZID=UTC:20260316T120000
DTSTAMP:20260423T122527
CREATED:20241205T071953Z
LAST-MODIFIED:20241205T071953Z
UID:903-1773655200-1773662400@cpsa125.org
SUMMARY:Open Draw Monday
DESCRIPTION:Join other colored pencil enthusiasts and artists for fellowship while working on your curent colored pencil project
URL:https://cpsa125.org/event/open-draw-monday-63/
LOCATION:Mary Alice Warren Community Center\, 7632 Warren Pk Dr\, Lewisville\, NC\, 27023\, United States
CATEGORIES:Open Draw
END:VEVENT
BEGIN:VEVENT
DTSTART;TZID=UTC:20260323T100000
DTEND;TZID=UTC:20260323T120000
DTSTAMP:20260423T122527
CREATED:20241205T072008Z
LAST-MODIFIED:20241205T072008Z
UID:904-1774260000-1774267200@cpsa125.org
SUMMARY:Open Draw Monday
DESCRIPTION:Join other colored pencil enthusiasts and artists for fellowship while working on your curent colored pencil project
URL:https://cpsa125.org/event/open-draw-monday-64/
LOCATION:Mary Alice Warren Community Center\, 7632 Warren Pk Dr\, Lewisville\, NC\, 27023\, United States
CATEGORIES:Open Draw
END:VEVENT
BEGIN:VEVENT
DTSTART;VALUE=DATE:20260330
DTEND;VALUE=DATE:20260331
DTSTAMP:20260423T122527
CREATED:20251119T211119Z
LAST-MODIFIED:20260225T193924Z
UID:2562-1774828800-1774915199@cpsa125.org
SUMMARY:NEWSLETTER OUT
DESCRIPTION:
URL:https://cpsa125.org/event/newsletter-out-5/
END:VEVENT
BEGIN:VEVENT
DTSTART;TZID=UTC:20260330T100000
DTEND;TZID=UTC:20260330T120000
DTSTAMP:20260423T122527
CREATED:20241205T072008Z
LAST-MODIFIED:20241205T072008Z
UID:905-1774864800-1774872000@cpsa125.org
SUMMARY:Open Draw Monday
DESCRIPTION:Join other colored pencil enthusiasts and artists for fellowship while working on your curent colored pencil project
URL:https://cpsa125.org/event/open-draw-monday-65/
LOCATION:Mary Alice Warren Community Center\, 7632 Warren Pk Dr\, Lewisville\, NC\, 27023\, United States
CATEGORIES:Open Draw
END:VEVENT
BEGIN:VEVENT
DTSTART;VALUE=DATE:20260331
DTEND;VALUE=DATE:20260401
DTSTAMP:20260423T122527
CREATED:20260225T194559Z
LAST-MODIFIED:20260225T194852Z
UID:2733-1774915200-1775001599@cpsa125.org
SUMMARY:CPSA INTERNATIONAL EXHIBITION - DEADINE FOR ENTRIES
DESCRIPTION:
URL:https://cpsa125.org/event/cpsa-international-exhibition-deadine-for-entries/
CATEGORIES:COLOR PENCIL SOCIETY EVENT
END:VEVENT
END:VCALENDAR